BEGIN:VCALENDAR
VERSION:2.0
PRODID:-//ChamberMaster//Event Calendar 2.0//EN
METHOD:PUBLISH
X-PUBLISHED-TTL:P3D
REFRESH-INTERVAL:P3D
CALSCALE:GREGORIAN
BEGIN:VEVENT
DTSTART:20260307T180000Z
DTEND:20260307T200000Z
X-MICROSOFT-CDO-ALLDAYEVENT:FALSE
SUMMARY:Carnation Farms Meat & Greet: a Hands-on Visit with Sheep and Cattle
DESCRIPTION:Do you know where your burger comes from? Want to meet your farmer? Get ready for a hands-on visit with the adorable sheep and cattle at Carnation Farms. Our farmers will share their expertise\, answer your questions\, and show you what makes our animals so unique. This is an interactive\, all-ages event perfect for anyone curious about where their food comes from\, interested in regenerative farming\, or eager to meet our animals up close.\n\n\n\nThis experience is FREE to all interested\, but please register so we can know who to expect.
X-ALT-DESC;FMTTYPE=text/html:<strong>Do you know where your burger comes from? Want to meet your farmer?</strong> Get ready for a hands-on visit with the adorable sheep and cattle at Carnation Farms. Our farmers will share their expertise\, answer your questions\, and show you what makes our animals so unique. This is an interactive\, all-ages event perfect for anyone curious about where their food comes from\, interested in regenerative farming\, or eager to meet our animals up close.<br />\n<br />\n<em>This experience is FREE to all interested\, but please register so we can know who to expect.</em>
LOCATION:Carnation Farms 28901 Northeast Carnation Farm Road Carnation\, WA 98014
UID:e.684.9267
SEQUENCE:3
DTSTAMP:20260421T103318Z
URL:http://business.issaquahchamber.com/events/details/carnation-farms-meat-greet-a-hands-on-visit-with-sheep-and-cattle-9267
END:VEVENT

END:VCALENDAR
