BEGIN:VCALENDAR
VERSION:2.0
PRODID:-//ChamberMaster//Event Calendar 2.0//EN
METHOD:PUBLISH
X-PUBLISHED-TTL:P3D
REFRESH-INTERVAL:P3D
CALSCALE:GREGORIAN
BEGIN:VEVENT
DTSTART:20260308T200000Z
DTEND:20260308T230000Z
X-MICROSOFT-CDO-ALLDAYEVENT:FALSE
SUMMARY:Detroit Style Pizza Workshop at Carnation Farms
DESCRIPTION:Dive into the magic of Detroit-style pizza at Carnation Farms in this hands-on workshop with Marianna Stepniewski of Cake It Nice. Known for its thick\, airy crust and irresistibly crispy\, caramelized edges\, this beloved pizza style is all about technique and Marianna will walk you through every step.\n\n\n\nGuests will learn how to mix and handle Detroit-style dough\, understand fermentation basics\, and master the key methods for achieving that signature golden crunch around the edges. Along the way\, we'll talk pans\, cheese placement\, baking temperatures\, and the small details that make a big difference.\n\n\n\nWhether you're a seasoned home cook or a curious pizza lover\, this workshop is equal parts practical and fun designed to give you the confidence to recreate Detroit-style pizza at home\, crispy edges and all.
X-ALT-DESC;FMTTYPE=text/html:<strong>Dive into the magic of Detroit-style pizza at Carnation Farms</strong> in this hands-on workshop with Marianna Stepniewski of Cake It Nice. Known for its thick\, airy crust and irresistibly crispy\, caramelized edges\, this beloved pizza style is all about technique&mdash\;and Marianna will walk you through every step.<br />\n<br />\nGuests will learn how to mix and handle Detroit-style dough\, understand fermentation basics\, and master the key methods for achieving that signature golden crunch around the edges. Along the way\, we&rsquo\;ll talk pans\, cheese placement\, baking temperatures\, and the small details that make a big difference.<br />\n<br />\nWhether you&rsquo\;re a seasoned home cook or a curious pizza lover\, this workshop is equal parts practical and fun&mdash\;designed to give you the confidence to recreate Detroit-style pizza at home\, crispy edges and all.
LOCATION:Carnation Farms 28901 Northeast Carnation Farm Road Carnation\, WA 98014
UID:e.684.9269
SEQUENCE:3
DTSTAMP:20260421T103510Z
URL:http://business.issaquahchamber.com/events/details/detroit-style-pizza-workshop-at-carnation-farms-9269
END:VEVENT

END:VCALENDAR
