BEGIN:VCALENDAR
VERSION:2.0
PRODID:-//ChamberMaster//Event Calendar 2.0//EN
METHOD:PUBLISH
X-PUBLISHED-TTL:P3D
REFRESH-INTERVAL:P3D
CALSCALE:GREGORIAN
BEGIN:VEVENT
DTSTART:20260321T180000Z
DTEND:20260321T200000Z
X-MICROSOFT-CDO-ALLDAYEVENT:FALSE
SUMMARY:Spring Potions: Make Your Own Herbal Syrups at Carnation Farms
DESCRIPTION:Spring is coming! Let's harness some seasonal magic by making delicious\, herbal syrups using early season plants including Stinging Nettle\, Chickweed\, and\, if we're lucky\, maybe even Magnolia flowers. Join Seattle-based clinical herbalist Rosa Vissers for a hands-on workshop at Carnation Farms where you'll learn to craft your very own herbal elixirs. The class will be interactive and engage all your senses. \n\n\n\nWorking with culinary and medicinal plants doesn't need to be complicated In fact\, it can be simple! This botanical workshop is perfect for those interested in plant medicines\, holistic wellness\, or those wanting to celebrate the changing seasons.
X-ALT-DESC;FMTTYPE=text/html:<strong>Spring is coming! </strong>Let&rsquo\;s harness some seasonal magic by making delicious\, herbal syrups using early season plants including Stinging Nettle\, Chickweed\, and\, if we&rsquo\;re lucky\, maybe even Magnolia flowers. Join Seattle-based clinical herbalist <strong>Rosa Vissers</strong> for a hands-on workshop at Carnation Farms where you&rsquo\;ll learn to craft your very own herbal elixirs. The class will be interactive and engage all your senses.&nbsp\;<br />\n<br />\nWorking with culinary and medicinal plants doesn&rsquo\;t need to be complicated&ndash\;In fact\, it can be simple! This botanical workshop is perfect for those interested in plant medicines\, holistic wellness\, or those wanting to celebrate the changing seasons.
LOCATION:Carnation Farms 28901 Northeast Carnation Farm Road Carnation\, WA 98014
UID:e.684.9270
SEQUENCE:3
DTSTAMP:20260423T102928Z
URL:http://business.issaquahchamber.com/events/details/spring-potions-make-your-own-herbal-syrups-at-carnation-farms-9270
END:VEVENT

END:VCALENDAR
