BEGIN:VCALENDAR
VERSION:2.0
PRODID:-//ChamberMaster//Event Calendar 2.0//EN
METHOD:PUBLISH
X-PUBLISHED-TTL:P3D
REFRESH-INTERVAL:P3D
CALSCALE:GREGORIAN
BEGIN:VEVENT
DTSTART:20151103T190000Z
DTEND:20151103T213000Z
X-MICROSOFT-CDO-ALLDAYEVENT:FALSE
SUMMARY:13th Annual Health Care Event
DESCRIPTION:Washington Policy Center (WPC) would like to invite the Greater Issaquah Chamber of Commerce to co-present our 13th Annual Health Care event on Tuesday\, November 3rd at the SeaTac Hilton Hotel!  The conference will feature Michael Tanner\, senior fellow at The Cato Institute and author of the new book\, Going for Broke: Deficits\, Debt and the Entitlement Crisis\, as this year's keynote speaker.\n\n \n\nWashington Policy Center's 13th Annual Health Care Luncheon is one of WPC's most anticipated policy events each year.  The event will begin at 11am with a bi-partisan panel session to review the 2015 Legislative Session and look ahead to health care policy in the 2016 Session.  Following the panel session will be our keynote luncheon with Michael Tanner.\n\n \n\nThe event's 200+ attendees will include state legislators\, local elected officials\, agency staff\, business owners\, the biotech community\, patient advocacy groups and industry representatives.
X-ALT-DESC;FMTTYPE=text/html:<span style="font-size:14px\;"><span style="font-family:tahoma\;"><span style="color:windowtext\;">Washington Policy Center (WPC) would like to invite the Greater Issaquah Chamber of Commerce to co</span>-present our <strong>13<sup>th</sup> Annual Health Care event</strong> on <u>Tuesday\, November 3<sup>rd</sup> at the SeaTac Hilton Hotel</u>!&nbsp\; The conference will<span style="color:windowtext\;"> feature </span><strong><u>Michael Tanner\, </u></strong><u>senior fellow at The Cato Institute and author of the new book\, <em>Going for Broke: Deficits\, Debt and the Entitlement Crisis</em>\,</u> as this year&rsquo\;s keynote speaker.<br />\n&nbsp\;<br />\nWashington Policy Center&#39\;s 13th Annual Health Care Luncheon is one of WPC&rsquo\;s most anticipated policy events each year.&nbsp\; The event will begin at 11am with a bi-partisan panel session to review the 2015 Legislative Session and look ahead to health care policy in the 2016 Session.&nbsp\; Following the panel session will be our keynote luncheon with Michael Tanner.<br />\n&nbsp\;<br />\nThe event&rsquo\;s 200+ attendees will include state legislators\, local elected officials\, agency staff\, business owners\, the biotech community\, patient advocacy groups and industry representatives.&nbsp\;<br />\n&nbsp\;</span></span>
LOCATION:SeaTac Hilton Hotel 17620 International Blvd Seattle\, Washington 98188 United States
UID:e.684.1383
SEQUENCE:3
DTSTAMP:20260425T153805Z
URL:https://business.issaquahchamber.com/events/details/13th-annual-health-care-event-11-03-2015-1383
END:VEVENT

END:VCALENDAR
