BEGIN:VCALENDAR
VERSION:2.0
PRODID:-//ChamberMaster//Event Calendar 2.0//EN
METHOD:PUBLISH
X-PUBLISHED-TTL:P3D
REFRESH-INTERVAL:P3D
CALSCALE:GREGORIAN
BEGIN:VEVENT
DTSTART:20170603T013000Z
DTEND:20170603T053000Z
X-MICROSOFT-CDO-ALLDAYEVENT:FALSE
SUMMARY:2017 Bark Benefit
DESCRIPTION:Some of the Wagly family will be attending the Saving Great Animals 2017 Bark Benefit. It will be a fun evening filled with amazing food and drinks\, great entertainment and highly desirable live and silent auction items.\n\nThe evening will begin at 6:30 p.m. You will be welcomed with a glass of wonderful Wilridge Wine or a cold drink of your choice. The atmosphere of the evening is casual and we will be serving many wonderful Hors D'Oevres\, catered by Herban Feast\, in lieu of a sit down dinner.\n\nYou'll have an opportunity to bid on many amazing silent auction items\, followed by fantastic live auction items. You will have scrumptious desserts while being entertained by the wonderful Jodi Brothers from the hit radio show "Marty and Jodi in the Morning" on 95.7 The Jet\, and the amazing Gee Scott\, who is our auctioneer for the night. There will be some surprises throughout the evening which they are sure will keep you amused.\n\nWe hope you will join us for this wonderful event so that they can continue to do important work in animal rescue.
X-ALT-DESC;FMTTYPE=text/html:<span class="_4n-j _3cht fsl" data-testid="event-permalink-details">Some of the Wagly family will be attending the Saving Great Animals 2017 Bark Benefit. It will be a fun evening filled with amazing food and drinks\, great entertainment and highly desirable live and silent auction items.<br />\nThe evening will begin at 6:30 p.m. You will be welcomed with a glass of wonderful Wilridge Wine or a cold drink of your choice. The atmosphere of the evening is casual and we will be serving many wonderful Hors D&#39\;Oevres\, catered by Herban Feast\, in lieu of a sit down dinner.<br />\nYou&#39\;ll have an opportunity to bid on many amazing silent auction items\, followed by fantastic live auction items. You will have scrumptious desserts while being entertained by the wonderful Jodi Brothers from the hit radio show &quot\;Marty and Jodi in the Morning&quot\; on 95.7 The Jet\, and the amazing Gee Scott\, who is our auctioneer for the night. There will be some surprises throughout the evening which they are sure will keep you amused.<br />\nWe hope you will join us for this wonderful event so that they can continue to do important work in animal rescue.</span>
LOCATION:Pickering Barn 1730 10th Ave NW Issaquah WA 98027
UID:e.684.3638
SEQUENCE:3
DTSTAMP:20260424T143646Z
URL:https://business.issaquahchamber.com/events/details/2017-bark-benefit-3638
END:VEVENT

END:VCALENDAR
