BEGIN:VCALENDAR
VERSION:2.0
PRODID:-//ChamberMaster//Event Calendar 2.0//EN
METHOD:PUBLISH
X-PUBLISHED-TTL:P3D
REFRESH-INTERVAL:P3D
CALSCALE:GREGORIAN
BEGIN:VEVENT
DTSTART:20170921T140000Z
DTEND:20170921T160000Z
X-MICROSOFT-CDO-ALLDAYEVENT:FALSE
SUMMARY:2017 King County Small Business Awards
DESCRIPTION:Join us for the seventh annual King County Executive's Small Business Awards\, as we recognize the achievements and accomplishments of small businesses throughout King County.\n\nOver 200 small business owners\, entrepreneurs\, and supporters of small business from across the County are expected to attend and show their support for this year's finalists and winners. The event this year will celebrate and honor the success of small business with a continental breakfast\, finalist displays\, and recognition of this year's winners in the following categories: Minority-Owned\, Woman-Owned\, Exporting\, Green/Sustainable\, Workforce Development\, Rural\, and the overall Small Business of the Year.\n\nProgram will run as follows:\n\n\n	\n	7:00 am - 7:15 am: Arrival and Registration\n	\n	\n	7:15 am - 7:50 am: Continental Breakfast & Networking\n	\n	\n	7:50 am - 9:00 am: Awards Ceremony\n	\n\n\nTicket Details:\n\nNote that Early Bird prices run through Friday\, September 8th. \n\n\n	\n	General Public: An open invitation is extended to the general public to attend this event.\n	\n\n\n\n	\n	Event Partner: Event partners include the County's 39 incorporated cities and towns\, Chambers of Commerce who have agreed to partner with King County to support this annual event.\n	\n	\n	Finalist: A small business that has been selected in 2017 by the event judges as a finalist in at least one of the nomination categories for this annual event.\n	\n	\n	Sponsor: An individual or entity that provides support for this annual event financially or through the provision of products or services.\n	\n\n\nQuestions? Send an email to Opportunity@kingcounty.gov.
X-ALT-DESC;FMTTYPE=text/html:<p><span>Join us for </span><span>the seventh annual </span><span>King County Executive&#39\;s Small Business Awards\, as we recognize the achievements and accomplishments of small businesses throughout King County</span><span>.</span></p>\n\n<p>Over 200 small business owners\, entrepreneurs\, and supporters of small business from across the County are expected to attend and show their support for this year&#39\;s finalists and winners. The event this year will celebrate and honor the success of small business with a continental breakfast\, finalist displays\, and recognition of this year&#39\;s winners in the following categories: Minority-Owned\, Woman-Owned\, Exporting\, Green/Sustainable\, Workforce Development\, Rural\, and the overall Small Business of the Year.</p>\n\n<p><strong>Program will run as follows:</strong></p>\n\n<ul>\n	<li>\n	<p>7:00 am - 7:15 am: Arrival and Registration</p>\n	</li>\n	<li>\n	<p>7:15 am - 7:50 am: Continental Breakfast &amp\; Networking</p>\n	</li>\n	<li>\n	<p>7:50 am - 9:00 am: Awards Ceremony</p>\n	</li>\n</ul>\n\n<p><strong>Ticket Details:</strong><br />\n<em>Note that Early Bird prices run through Friday\, September 8th. </em></p>\n\n<ul>\n	<li>\n	<p><span><span>General Public</span></span><span>: An open invitation is extended to the general public to attend this event.</span></p>\n	</li>\n</ul>\n\n<ul>\n	<li>\n	<p><span><span>Event Partner</span></span><span>: </span><span>Event partners include the County&rsquo\;s 39 incorporated cities and towns\, Chambers of Commerce who have agreed to partner with King County to support this annual event.</span></p>\n	</li>\n	<li>\n	<p><span><span>Finalist</span></span><span>: A small business that has been selected in 2017 by the event judges as a finalist in at least one of the nomination categories for this annual event.</span></p>\n	</li>\n	<li>\n	<p><span><span>Sponsor</span></span><span>: </span>An individual or entity that provides support for this annual event financially or through the provision of products or services.</p>\n	</li>\n</ul>\n\n<p><strong>Questions? Send an email to <a rel="noopener noreferrer nofollow" target="_blank" title="Inquiry re: King County Small Business Awards"><strong>Opportunity</strong>@kingcounty.gov</a>.</strong></p>\n
LOCATION:Meydenbauer Center 11100 Northeast 6th Street Bellevue\, WA 98004
UID:e.684.3834
SEQUENCE:3
DTSTAMP:20260424T115620Z
URL:https://business.issaquahchamber.com/events/details/2017-king-county-small-business-awards-3834
END:VEVENT

END:VCALENDAR
