BEGIN:VCALENDAR
VERSION:2.0
PRODID:-//ChamberMaster//Event Calendar 2.0//EN
METHOD:PUBLISH
X-PUBLISHED-TTL:P3D
REFRESH-INTERVAL:P3D
CALSCALE:GREGORIAN
BEGIN:VEVENT
DTSTART:20180704T140000Z
DTEND:20180705T030000Z
X-MICROSOFT-CDO-ALLDAYEVENT:FALSE
SUMMARY:4th of July Picnic
DESCRIPTION:Join Friends of Lake Sammamish at Lake Sammamish for a 4th of July Picnic!\n\n\n\nThe Kitchen Shelter has two sinks and a center counter with electrical outlets. There are horseshoe pits\, a large grassy area and a sand volleyball court. The shelter accommodates groups up to 400 people.\n\n\n\nThe Rotunda Shelter is a unique hexagonal shaped building with a central fireplace\, six picnic tables inside\, 12 tables outside and a sandy volleyball court. The shelter accommodates groups of up to 100 people. \n\n\n\nAll day-use facilities are reservable by visiting online or calling 888-CAMPOUT (888-226-7688). The park also offers one sheltered and 475 unsheltered picnic tables\, plus 80 barbecue grills on stands.
X-ALT-DESC;FMTTYPE=text/html:<span style="color: rgb(75\, 79\, 86)\; font-family: Helvetica\, Arial\, sans-serif\; font-size: 14px\; background-color: rgb(255\, 255\, 255)\;">Join Friends of Lake Sammamish at Lake Sammamish for a 4th of July Picnic!</span><br style="color: rgb(75\, 79\, 86)\; font-family: Helvetica\, Arial\, sans-serif\; font-size: 14px\; background-color: rgb(255\, 255\, 255)\;" />\n<br style="color: rgb(75\, 79\, 86)\; font-family: Helvetica\, Arial\, sans-serif\; font-size: 14px\; background-color: rgb(255\, 255\, 255)\;" />\n<span style="color: rgb(75\, 79\, 86)\; font-family: Helvetica\, Arial\, sans-serif\; font-size: 14px\; background-color: rgb(255\, 255\, 255)\;">The Kitchen Shelter has two sinks and a center counter with electrical outlets. There are horseshoe pits\, a large grassy area and a sand volleyball court. The shelter accommodates groups up to 400 people.</span><br style="color: rgb(75\, 79\, 86)\; font-family: Helvetica\, Arial\, sans-serif\; font-size: 14px\; background-color: rgb(255\, 255\, 255)\;" />\n<br style="color: rgb(75\, 79\, 86)\; font-family: Helvetica\, Arial\, sans-serif\; font-size: 14px\; background-color: rgb(255\, 255\, 255)\;" />\n<span style="color: rgb(75\, 79\, 86)\; font-family: Helvetica\, Arial\, sans-serif\; font-size: 14px\; background-color: rgb(255\, 255\, 255)\;">The Rotunda Shelter is a unique hexagonal shaped building with a central fireplace\, six picnic tables inside\, 12 tables outside and a sandy volleyball court. The shelter accommodates groups of up to 100 people.&nbsp\;</span><br style="color: rgb(75\, 79\, 86)\; font-family: Helvetica\, Arial\, sans-serif\; font-size: 14px\; background-color: rgb(255\, 255\, 255)\;" />\n<br style="color: rgb(75\, 79\, 86)\; font-family: Helvetica\, Arial\, sans-serif\; font-size: 14px\; background-color: rgb(255\, 255\, 255)\;" />\n<span style="color: rgb(75\, 79\, 86)\; font-family: Helvetica\, Arial\, sans-serif\; font-size: 14px\; background-color: rgb(255\, 255\, 255)\;">All day-use facilities are reservable by visiting online or calling 888-CAMPOUT (888-226-7688). The park also offers one sheltered and 475 unsheltered picnic tables\, plus 80 barbecue grills on stands.</span>
LOCATION:Friends of Lake Sammamish State Park 2000 NW Sammamish Road\, Issaquah
UID:e.684.5391
SEQUENCE:3
DTSTAMP:20260423T233502Z
URL:https://business.issaquahchamber.com/events/details/4th-of-july-picnic-5391
END:VEVENT

END:VCALENDAR
