BEGIN:VCALENDAR
VERSION:2.0
PRODID:-//ChamberMaster//Event Calendar 2.0//EN
METHOD:PUBLISH
X-PUBLISHED-TTL:P3D
REFRESH-INTERVAL:P3D
CALSCALE:GREGORIAN
BEGIN:VEVENT
DTSTART:20170521T143000Z
DTEND:20170521T223000Z
X-MICROSOFT-CDO-ALLDAYEVENT:FALSE
SUMMARY:5K Yoga and Meditation
DESCRIPTION:5K. Yoga. Meditation.\n\nCheck it out!\n\n2017 Tour On Sale Now\n\nBringing together three mindful activities running\, yoga and meditation in a festival atmosphere\, in your favorite local park. Like life itself\, our triathlon is all about the journey\, not the final destination. The prize is inner peace and vibrant community and that's a big win.
X-ALT-DESC;FMTTYPE=text/html:<p>5K. Yoga. Meditation.</p>\n\n<p>Check it out!</p>\n\n<p>2017 Tour On Sale Now<br />\nBringing together three mindful activities&mdash\;running\, yoga and meditation&mdash\;in a festival atmosphere\, in your favorite local park. Like life itself\, our triathlon is all about the journey\, not the final destination. The prize is inner peace and vibrant community&mdash\;and that&rsquo\;s a big win.</p>\n
LOCATION:2000 NW Sammamish Rd\, Issaquah\, WA 98027
UID:e.684.3583
SEQUENCE:3
DTSTAMP:20260424T160002Z
URL:https://business.issaquahchamber.com/events/details/5k-yoga-and-meditation-3583
END:VEVENT

END:VCALENDAR
