BEGIN:VCALENDAR
VERSION:2.0
PRODID:-//ChamberMaster//Event Calendar 2.0//EN
METHOD:PUBLISH
X-PUBLISHED-TTL:P3D
REFRESH-INTERVAL:P3D
CALSCALE:GREGORIAN
BEGIN:VEVENT
DTSTART:20151213T230000Z
DTEND:20151213T230000Z
X-MICROSOFT-CDO-ALLDAYEVENT:FALSE
SUMMARY:A Choral Christmas Carol
DESCRIPTION:Charles Dickens' beloved classic\, A Christmas Carol\, provides the framework for this reprisal from our past\, an enchanting and poignant intertwining of Christmas carols and readers theater. Encounter the true spirit of Christmas with this timeless tale of redemption and joy\; with professional actor David Ketter as the Narrator\, and Village Theater veteran John Deveney as Scrooge.
X-ALT-DESC;FMTTYPE=text/html:Charles Dickens&#39\; beloved classic\,&nbsp\;<em>A Christmas Carol</em>\, provides the framework for this reprisal from our past\, an enchanting and poignant intertwining of Christmas carols and readers theater. Encounter the true spirit of Christmas with this timeless tale of redemption and joy\; with professional actor David Ketter as the Narrator\, and Village Theater veteran John Deveney as Scrooge.
LOCATION:Pine Lake Covenant Church 1715 228th Ave SE Sammamish\, WA 98075
UID:e.684.1420
SEQUENCE:3
DTSTAMP:20260425T141604Z
URL:https://business.issaquahchamber.com/events/details/a-choral-christmas-carol-12-13-2015-1420
END:VEVENT

END:VCALENDAR
