BEGIN:VCALENDAR
VERSION:2.0
PRODID:-//ChamberMaster//Event Calendar 2.0//EN
METHOD:PUBLISH
X-PUBLISHED-TTL:P3D
REFRESH-INTERVAL:P3D
CALSCALE:GREGORIAN
BEGIN:VEVENT
DTSTART:20170218T180000Z
DTEND:20170218T230000Z
X-MICROSOFT-CDO-ALLDAYEVENT:FALSE
SUMMARY:AARP Tax Help
DESCRIPTION:AARP Tax Help \n\nSaturday\, February 11\, 2017 (10:00AM   3:00PM) \n\nIssaquah\n\n\n\n\nDescription\n\n\nGet free individualized tax preparation assistance provided by trained AARP Foundation volunteers. No age or income limits. Please bring picture I.D.\, documented proof of Social Security Number\, and last year's return as well as any current tax documents.\n\nNo registration required.
X-ALT-DESC;FMTTYPE=text/html:<span class="ember-view" id="ember1889">AARP Tax Help </span>\n<div class="event-summary-box">\n<div class="event-date"><span>Saturday\, February 11\, 2017</span> <span>(10:00AM &ndash\; 3:00PM) </span></div>\n\n<div class="event-location" itemprop="location" itemscope=""><span itemprop="name">Issaquah</span></div>\n</div>\n\n<div class="row event-desc-container"><!-- Description -->\n<div class="event-description col-sm-7" data-bindattr-1894="1894">\n<h2>Description</h2>\n\n<div class="event-decription-content" itemprop="description">\n<p>Get free individualized tax preparation assistance provided by trained AARP Foundation volunteers. No age or income limits. Please bring picture I.D.\, documented proof of Social Security Number\, and last year&#39\;s return as well as any current tax documents.</p>\n\n<p>No registration required.</p>\n</div>\n</div>\n</div>\n
LOCATION:Issaquah Library 10 West Sunset Way Issaquah WA 98027
UID:e.684.3481
SEQUENCE:3
DTSTAMP:20260424T193718Z
URL:https://business.issaquahchamber.com/events/details/aarp-tax-help-3481
END:VEVENT

END:VCALENDAR
