BEGIN:VCALENDAR
VERSION:2.0
PRODID:-//ChamberMaster//Event Calendar 2.0//EN
METHOD:PUBLISH
X-PUBLISHED-TTL:P3D
REFRESH-INTERVAL:P3D
CALSCALE:GREGORIAN
BEGIN:VEVENT
DTSTART:20170216T013000Z
DTEND:20170216T050000Z
X-MICROSOFT-CDO-ALLDAYEVENT:FALSE
SUMMARY:Activity Night @ Senior Center
DESCRIPTION:Join us for card games\, movie nights and a variety of other activities!
X-ALT-DESC;FMTTYPE=text/html:Join us for card games\, movie nights and a variety of other activities!
LOCATION:Senior Center 75 N.E. Creek Way Issaquah\, WA 98027
UID:e.684.3501
SEQUENCE:3
DTSTAMP:20260424T193725Z
URL:https://business.issaquahchamber.com/events/details/activity-night-senior-center-3501
END:VEVENT

END:VCALENDAR
