BEGIN:VCALENDAR
VERSION:2.0
PRODID:-//ChamberMaster//Event Calendar 2.0//EN
METHOD:PUBLISH
X-PUBLISHED-TTL:P3D
REFRESH-INTERVAL:P3D
CALSCALE:GREGORIAN
BEGIN:VEVENT
DTSTART:20170701T020000Z
DTEND:20170701T050000Z
X-MICROSOFT-CDO-ALLDAYEVENT:FALSE
SUMMARY:All American Independence Celebration
DESCRIPTION:Our ever-popular Celebrate America concert returns to ring in Independence Day and commemorate our Founding Mothers with patriotic songs\, sing alongs\, historical commentary about the remarkable women who helped build the United States\, and the all-American music you know and love.
X-ALT-DESC;FMTTYPE=text/html:<span class="_4n-j _fbReactionComponent__eventDetailsContentTags fsl" data-testid="event-permalink-details">Our ever-popular Celebrate America concert returns to ring in Independence Day and commemorate our Founding Mothers with patriotic songs\, sing alongs\, historical commentary about the remarkable women who helped build the United States\, and the all-American music you know and love.</span>
LOCATION:Pickering Barn 1730 10th Ave NW Issaquah WA 9827
UID:e.684.3639
SEQUENCE:3
DTSTAMP:20260424T144937Z
URL:https://business.issaquahchamber.com/events/details/all-american-independence-celebration-3639
END:VEVENT

END:VCALENDAR
