BEGIN:VCALENDAR
VERSION:2.0
PRODID:-//ChamberMaster//Event Calendar 2.0//EN
METHOD:PUBLISH
X-PUBLISHED-TTL:P3D
REFRESH-INTERVAL:P3D
CALSCALE:GREGORIAN
BEGIN:VEVENT
DTSTART:20170423T180000Z
DTEND:20170423T213000Z
X-MICROSOFT-CDO-ALLDAYEVENT:FALSE
SUMMARY:All Porche Show
DESCRIPTION:Come and have fun\, talk to your buddies and have a burger. Awards will be given for general presentation\, condition\, uniqueness and preparation. No opening of doors or storage areas. Casual car show and shine and a fun event. Three Judges choice and People's Choice award will be given. Awards presentation at 2 p.m. This is usually a good\, easy\, casual first concours event of the season. Come on out and see your friends and their cars.
X-ALT-DESC;FMTTYPE=text/html:Come and have fun\, talk to your buddies and have a burger. Awards will be given for general presentation\, condition\, uniqueness and preparation. No opening of doors or storage areas. Casual car show and shine and a fun event. Three Judges choice and People&#39\;s Choice award will be given. Awards presentation at 2 p.m. This is usually a good\, easy\, casual first concours event of the season. Come on out and see your friends and their cars.
LOCATION:XXX Root Beer Drive-in 98 NE Gilman Blvd Issaquah\, WA
UID:e.684.3609
SEQUENCE:3
DTSTAMP:20260424T170741Z
URL:https://business.issaquahchamber.com/events/details/all-porche-show-3609
END:VEVENT

END:VCALENDAR
