BEGIN:VCALENDAR
VERSION:2.0
PRODID:-//ChamberMaster//Event Calendar 2.0//EN
METHOD:PUBLISH
X-PUBLISHED-TTL:P3D
REFRESH-INTERVAL:P3D
CALSCALE:GREGORIAN
BEGIN:VEVENT
DTSTART:20170104T160000Z
DTEND:20170104T170000Z
X-MICROSOFT-CDO-ALLDAYEVENT:FALSE
SUMMARY:AMBASSADORS COMMITTEE MEETING
DESCRIPTION:Monthly Ambassador Committee Meeting\n\nWelcome Basket Deliveries\n\nRibbon Cuttings\n\nHelping at Chamber Events\n\nAll upcoming activities and new members will be discussed and Ambassadors will be able to sign up for the activities they chose to participate in.\n\nNext Welcome New Member - Network@Night will be planned\n\nInterested in reaching out to welcome new members? \n\nAre you able to attend events frequently and facilitating introductions & connections?  \n\n\n\nInterested in sharing the Chamber with others within your networking circles?\n\n\n\n\n\nPlease contact Diana to join!\n\ninfo@issaquahchamber.com
X-ALT-DESC;FMTTYPE=text/html:<div style="text-align: center\;"><strong><span style="font-size:18px\;">Monthly Ambassador Committee Meeting</span><br />\n<em>Welcome Basket Deliveries<br />\nRibbon Cuttings<br />\nHelping at Chamber Events<br />\nAll upcoming activities and new members will be discussed and Ambassadors will be able to sign up for the activities they chose to participate in.<br />\nNext Welcome New Member - Network@Night will be planned<br />\nInterested in reaching out to welcome new members?&nbsp\;<br />\nAre you able to attend events frequently and facilitating introductions &amp\; connections? &nbsp\;<br />\n<br />\nInterested in sharing the Chamber with others within your networking circles?</em></strong><br />\n<br />\n<br />\n<span style="font-size:12px\;"><strong><em>Please contact Diana to join!<br />\ninfo@issaquahchamber.com</em></strong></span></div>\n
LOCATION:Issaquah Chamber of Commerce Conference Room 155 NW Gilman Blvd Issaquah\, WA 98027
UID:e.684.785
SEQUENCE:3
DTSTAMP:20260424T205606Z
URL:https://business.issaquahchamber.com/events/details/ambassadors-committee-meeting-01-04-2017-785
END:VEVENT

END:VCALENDAR
