BEGIN:VCALENDAR
VERSION:2.0
PRODID:-//ChamberMaster//Event Calendar 2.0//EN
METHOD:PUBLISH
X-PUBLISHED-TTL:P3D
REFRESH-INTERVAL:P3D
CALSCALE:GREGORIAN
BEGIN:VEVENT
DTSTART:20170909T010000Z
DTEND:20170909T030000Z
X-MICROSOFT-CDO-ALLDAYEVENT:FALSE
SUMMARY:ArtWalk
DESCRIPTION:The summer ArtWalks transforms the historic downtown businesses into artists? galleries for the night. Issaquah ArtWalk is a lively\, festive event with a variety of artistic styles\, interactive art demonstrations\, live music and dance in multiple locations throughout the historic downtown.  This free event includes hands-on art projects and some special surprises.\n\n \n\n \n\nFrom the time ArtWalk started in 2002\, the crowd has increased twelve-fold and the number of artists who participate has tripled.  Artwalks brings people downtown Issaquah to see and purchase art\, hear live music and support our historic downtown.  Issaquah ArtWalk is a First Friday night destination on the East Side.
X-ALT-DESC;FMTTYPE=text/html:<p>The summer ArtWalks transforms the historic downtown businesses into artists? galleries for the night. Issaquah ArtWalk is a lively\, festive event with a variety of artistic styles\, interactive art demonstrations\, live music and dance in multiple locations throughout the historic downtown.&nbsp\; This free event includes hands-on art projects and some special surprises.</p>\n\n<p>&nbsp\;</p>\n\n<div class="mailmunch-forms-in-post-middle" style="display: none !important\;">&nbsp\;</div>\n\n<p>From the time ArtWalk started in 2002\, the crowd has increased twelve-fold and the number of artists who participate has tripled. &nbsp\;Artwalks brings people downtown Issaquah to see and purchase art\, hear live music and support our historic downtown.&nbsp\; Issaquah ArtWalk is a First Friday night destination on the East Side.</p>\n
LOCATION:Front Street Issaquah WA 98027
UID:e.684.3557
SEQUENCE:3
DTSTAMP:20260424T104052Z
URL:https://business.issaquahchamber.com/events/details/artwalk-09-01-2017-3557
END:VEVENT

END:VCALENDAR
