BEGIN:VCALENDAR
VERSION:2.0
PRODID:-//ChamberMaster//Event Calendar 2.0//EN
METHOD:PUBLISH
X-PUBLISHED-TTL:P3D
REFRESH-INTERVAL:P3D
CALSCALE:GREGORIAN
BEGIN:VEVENT
DTSTART:20161209T200000Z
DTEND:20161209T203000Z
X-MICROSOFT-CDO-ALLDAYEVENT:FALSE
SUMMARY:Atlas Apartments Ribbon Cutting
DESCRIPTION:Please join us and welcoming Atlas Apartments to the Chamber!
X-ALT-DESC;FMTTYPE=text/html:Please join us and welcoming Atlas Apartments to the Chamber!
LOCATION:Atlas Apartments 1036 7th Ave NW Issaqauh\, WA 98027
UID:e.684.3132
SEQUENCE:3
DTSTAMP:20260424T221430Z
URL:https://business.issaquahchamber.com/events/details/atlas-apartments-ribbon-cutting-3132
END:VEVENT

END:VCALENDAR
