BEGIN:VCALENDAR
VERSION:2.0
PRODID:-//ChamberMaster//Event Calendar 2.0//EN
METHOD:PUBLISH
X-PUBLISHED-TTL:P3D
REFRESH-INTERVAL:P3D
CALSCALE:GREGORIAN
BEGIN:VEVENT
DTSTART:20170610T160000Z
DTEND:20170611T000000Z
X-MICROSOFT-CDO-ALLDAYEVENT:FALSE
SUMMARY:BIke Festival
DESCRIPTION:Bring your friends & family and join us on Saturday\, June 10 & Sunday\, June 11th (9-5pm)\, 2017 for Evergreen Mountain Bike Alliance's 8th Annual Festival at Duthie!\nIf you ride a mountain bike - or have thought about trying it out - this is the event for you! Enjoy...\n\n\n	Bike demos from all the major mountain bike brands \n	50+ vendors\n	Raffles\n	Trail riding\n	Bike skills clinics and guided rides from the Evergreen Skills Team\n	Jump Show \n	Special kids events\n	Beer Garden\n	Fun for the whole family!\n\n\nSo mark on your calendar\, grab the kids\, bring some cash for beer\, food and raffle tickets\, and be ready for an amazing day of mountain biking fun.
X-ALT-DESC;FMTTYPE=text/html:Bring your friends &amp\; family and join us on <strong style="line-height: 1.3em\;">Saturday\, June 10 &amp\; Sunday\, June 11th (9-5pm)\, 2017 for </strong><strong style="line-height: 1.3em\;">Evergreen Mountain Bike Alliance&#39\;s 8th Annual Festival at Duthie!</strong>\n<p>If you ride a mountain bike - or have thought about trying it out - this is the event for you! Enjoy...</p>\n\n<ul>\n	<li><span style="line-height: 1.3em\; text-indent: -0.25in\;">Bike demos from all the major mountain bike brands </span></li>\n	<li><span style="line-height: 1.3em\;">50+ vendors</span></li>\n	<li><span style="line-height: 1.3em\;">Raffles</span></li>\n	<li><span style="line-height: 1.3em\;">Trail riding</span></li>\n	<li><span style="line-height: 1.3em\;">Bike skills clinics and guided rides from the Evergreen Skills Team</span></li>\n	<li><span style="line-height: 1.3em\;">Jump Show&nbsp\;</span></li>\n	<li><span style="line-height: 1.3em\;">Special kids events</span></li>\n	<li><span style="line-height: 1.3em\;"><span style="line-height: 1.3em\;">Beer Garden</span></span></li>\n	<li><span style="line-height: 1.3em\;">Fun for the whole family!</span></li>\n</ul>\n\n<p><span style="line-height: 1.3em\;">So mark on your calendar\, grab the kids\, bring some cash for beer\, food and raffle tickets\, and be ready for an amazing day of mountain biking fun.</span></p>\n
LOCATION:Duthie Hill Park 27101 SE Duthie Hill Rd Issaquah WA 98029
UID:e.684.3533
SEQUENCE:3
DTSTAMP:20260424T160110Z
URL:https://business.issaquahchamber.com/events/details/bike-festival-3533
END:VEVENT

END:VCALENDAR
