BEGIN:VCALENDAR
VERSION:2.0
PRODID:-//ChamberMaster//Event Calendar 2.0//EN
METHOD:PUBLISH
X-PUBLISHED-TTL:P3D
REFRESH-INTERVAL:P3D
CALSCALE:GREGORIAN
BEGIN:VEVENT
DTSTART:20160229T160000Z
DTEND:20160229T200000Z
X-MICROSOFT-CDO-ALLDAYEVENT:FALSE
SUMMARY:Bird Walk
DESCRIPTION:This urban park offers a wide assortment of birds and habitats due to its varied ecosystems. The trip will involve walking approximately 2-3 miles. Dress appropriately (rainproof in layers\; some of the trails can be muddy if wet).  We meet at the main entrance from NW Sammamish Road on the south end of the lake. Take the first left into the large parking lot and meet at the northeast end at 8:00 a.m. A Discover Pass is required to park. NO PRE-REGISTRATION REQUIRED.
X-ALT-DESC;FMTTYPE=text/html:<span style="color: rgb(77\, 77\, 77)\; font-family: 'Droid Sans'\, Arial\, Verdana\, sans-serif\; line-height: 22.100000381469727px\;">This urban park offers a wide assortment of birds and habitats due to its varied ecosystems. The trip will involve walking approximately 2-3 miles. Dress appropriately (rainproof in layers\; some of the trails can be muddy if wet).&nbsp\; We meet at the main entrance from NW Sammamish Road on the south end of the lake. Take the first left into the large parking lot and meet at the northeast end at 8:00 a.m. A Discover Pass is required to park. NO PRE-REGISTRATION REQUIRED.</span>
LOCATION:Lake Sammamish State Park
UID:e.684.1753
SEQUENCE:3
DTSTAMP:20260425T124523Z
URL:https://business.issaquahchamber.com/events/details/bird-walk-02-29-2016-1753
END:VEVENT

END:VCALENDAR
