BEGIN:VCALENDAR
VERSION:2.0
PRODID:-//ChamberMaster//Event Calendar 2.0//EN
METHOD:PUBLISH
X-PUBLISHED-TTL:P3D
REFRESH-INTERVAL:P3D
CALSCALE:GREGORIAN
BEGIN:VEVENT
DTSTART:20161227T160000Z
DTEND:20161227T200000Z
X-MICROSOFT-CDO-ALLDAYEVENT:FALSE
SUMMARY:Bird Walk at Lake Sammamish State Park
DESCRIPTION:This urban park offers a wide assortment of birds and habitats in its varied ecosystems. The walk is 2 to 3 miles. It can be an enjoyable walk for teens as well as adults. Dress appropriately (rainproof in layers\; some of the trails can be very muddy if wet).\n\nWe meet at the main entrance from NW Sammamish Road on the south end of the lake. Inside the main entrance\, take the first left into the large parking lot and meet at the northeast end before 8 a.m.\n\nWalk is free. A Discover Pass is required to park. (Available at discoverpass.wa.gov and sporting goods stores that sell fishing or hunting licenses.)\n\nNo pre-registration required. Co-leaders: Sharon Aagaard (425-891-3460) and Stan Wood.
X-ALT-DESC;FMTTYPE=text/html:<p style="margin-top: 0px\; margin-bottom: 0.3em\; font-family: Arial\, &quot\;Lucida Grande&quot\;\, Verdana\, Lucida\, Helvetica\, sans-serif\; font-size: 15.2px\; background-color: rgb(255\, 255\, 255)\;">This urban park offers a wide assortment of birds and habitats in its varied ecosystems. The walk is 2 to 3 miles. It can be an enjoyable walk for teens as well as adults. Dress appropriately (rainproof in layers\; some of the trails can be very muddy if wet).</p>\n\n<p style="margin-top: 0px\; margin-bottom: 0.3em\; font-family: Arial\, &quot\;Lucida Grande&quot\;\, Verdana\, Lucida\, Helvetica\, sans-serif\; font-size: 15.2px\; background-color: rgb(255\, 255\, 255)\;">We meet at the main entrance from NW Sammamish Road on the south end of the lake. Inside the main entrance\, take the first left into the large parking lot and meet at the northeast end before 8 a.m.</p>\n\n<p style="margin-top: 0px\; margin-bottom: 0.3em\; font-family: Arial\, &quot\;Lucida Grande&quot\;\, Verdana\, Lucida\, Helvetica\, sans-serif\; font-size: 15.2px\; background-color: rgb(255\, 255\, 255)\;">Walk is free. A Discover Pass is required to park. (Available at&nbsp\;<a class="external-link" href="http://discoverpass.wa.gov/" style="color: rgb(125\, 115\, 56)\;" target="_blank">discoverpass.wa.gov</a>&nbsp\;and sporting goods stores that sell fishing or hunting licenses.)</p>\n\n<p style="margin-top: 0px\; margin-bottom: 0.3em\; font-family: Arial\, &quot\;Lucida Grande&quot\;\, Verdana\, Lucida\, Helvetica\, sans-serif\; font-size: 15.2px\; background-color: rgb(255\, 255\, 255)\;">No pre-registration required. Co-leaders: Sharon Aagaard (425-891-3460) and Stan Wood.</p>\n
LOCATION:Lake Sammamish State Park 2000 NW Sammamish Rd Issaquah\, WA 98029
UID:e.684.3150
SEQUENCE:3
DTSTAMP:20260424T233141Z
URL:https://business.issaquahchamber.com/events/details/bird-walk-at-lake-sammamish-state-park-3150
END:VEVENT

END:VCALENDAR
