BEGIN:VCALENDAR
VERSION:2.0
PRODID:-//ChamberMaster//Event Calendar 2.0//EN
METHOD:PUBLISH
X-PUBLISHED-TTL:P3D
REFRESH-INTERVAL:P3D
CALSCALE:GREGORIAN
BEGIN:VEVENT
DTSTART:20161117T193000Z
DTEND:20161117T210000Z
X-MICROSOFT-CDO-ALLDAYEVENT:FALSE
SUMMARY:BIZ U.
DESCRIPTION:Department of Labor Overtime Rule goes into effect on December 1st. What does that mean for you and your employees? Your HR department and staff will find the answer to this and other labor issues facing your business today.\n\nCeleste M. Monroe is a firm shareholder at Karr Tuttle Campbell\, Attorneys at Law\, as well as a member of the firm's Labor & Employment Relations and Litigation Groups.. Her expansive practice includes litigation at the trial court level and on appeal\, in state and federal courts throughout the Northwest. Celeste's practice includes a significant number of employer clients for whom she provides employment counseling and litigation services. She advises her clients on all aspects of the employment relationship\, including hiring\, discipline\, internal investigations and termination. In addition\, Ms. Monroe helps her clients assess and refine their policies and procedures to help avoid future claims by employees. Celeste will share with us the Department of Labors Overtime Rule and how to unsure the best possible outcome for our business and our employees under this new ruling.
X-ALT-DESC;FMTTYPE=text/html:<h1><span style="font-size:16px\;"><span style="font-family: arial\;">Department of Labor Overtime Rule goes into effect on December 1st. What does that mean for you and your employees? Your HR department and staff will find the answer to this and other labor issues facing your business today.</span></span></h1>\n\n<h2 class="vc_custom_heading" style="font-size: 17px\;color: #131212\;line-height: 30px\;text-align: left\;font-family:Lato\;font-weight:400\;font-style:normal"><span style="font-family:calibri\,sans-serif\;"><span style="font-size:11.0pt\;"><a href="http://www.karrtuttle.com/celeste-m-monroe/">Celeste M. Monroe</a> is a firm shareholder at Karr Tuttle Campbell\, Attorneys at Law\, as well as a member of the firm&rsquo\;s <a href="http://www.karrtuttle.com/practice-areas/labor-employment-relations/">Labor &amp\; Employment Relations</a> and Litigation Groups.</span></span><span style="font-size:14px\;"><span style="font-family: arial\;">. Her expansive practice includes litigation at the trial court level and on appeal\, in state and federal courts throughout the Northwest. Celeste&#39\;s practice includes a significant number of employer clients for whom she provides employment counseling and litigation services. She advises her clients on all aspects of the employment relationship\, including hiring\, discipline\, internal investigations and termination. In addition\, Ms. Monroe helps her clients assess and refine their policies and procedures to help avoid future claims by employees. Celeste will share with us the Department of Labors Overtime Rule and how to unsure the best possible outcome for our business and our employees under this new ruling.</span></span></h2>\n
LOCATION:Issaquah City Hall - Eagle Room 130 E Sunset Way\, Issaquah\, WA 98027
UID:e.684.3116
SEQUENCE:3
DTSTAMP:20260424T232745Z
URL:https://business.issaquahchamber.com/events/details/biz-u-3116
END:VEVENT

END:VCALENDAR
