BEGIN:VCALENDAR
VERSION:2.0
PRODID:-//ChamberMaster//Event Calendar 2.0//EN
METHOD:PUBLISH
X-PUBLISHED-TTL:P3D
REFRESH-INTERVAL:P3D
CALSCALE:GREGORIAN
BEGIN:VEVENT
DTSTART:20180602T010000Z
DTEND:20180602T030000Z
X-MICROSOFT-CDO-ALLDAYEVENT:FALSE
SUMMARY:Blooms\, Coffee & Brews
DESCRIPTION:Head to Anchorhead Coffee for an evening of flower arranging fun! Choose to sip on anything from a hot to a cold brew\, the choice is up to you!
X-ALT-DESC;FMTTYPE=text/html:Head to Anchorhead Coffee for an evening of flower arranging fun! Choose to sip on anything from a hot to a cold brew\, the choice is up to you!
LOCATION:
UID:e.684.5397
SEQUENCE:3
DTSTAMP:20260423T232907Z
URL:https://business.issaquahchamber.com/events/details/blooms-coffee-brews-5397
END:VEVENT

END:VCALENDAR
