BEGIN:VCALENDAR
VERSION:2.0
PRODID:-//ChamberMaster//Event Calendar 2.0//EN
METHOD:PUBLISH
X-PUBLISHED-TTL:P3D
REFRESH-INTERVAL:P3D
CALSCALE:GREGORIAN
BEGIN:VEVENT
DTSTART:20160318T143000Z
DTEND:20160318T160000Z
X-MICROSOFT-CDO-ALLDAYEVENT:FALSE
SUMMARY:BOARD MEETING
DESCRIPTION:
X-ALT-DESC;FMTTYPE=text/html:
LOCATION:University House 22975 SE Black Nugget Road Issaquah
UID:e.684.1953
SEQUENCE:3
DTSTAMP:20260425T112655Z
URL:https://business.issaquahchamber.com/events/details/board-meeting-03-18-2016-1953
END:VEVENT

END:VCALENDAR
