BEGIN:VCALENDAR
VERSION:2.0
PRODID:-//ChamberMaster//Event Calendar 2.0//EN
METHOD:PUBLISH
X-PUBLISHED-TTL:P3D
REFRESH-INTERVAL:P3D
CALSCALE:GREGORIAN
BEGIN:VEVENT
DTSTART:20171117T153000Z
DTEND:20171117T170000Z
X-MICROSOFT-CDO-ALLDAYEVENT:FALSE
SUMMARY:BOARD MEETING
DESCRIPTION:Meeting of the Board of Directors
X-ALT-DESC;FMTTYPE=text/html:Meeting of the Board of Directors
LOCATION:City of Issaquah - Eagle Room 130 E. Sunset Way Issaquah\, WA 98027
UID:e.684.3595
SEQUENCE:3
DTSTAMP:20260424T074424Z
URL:https://business.issaquahchamber.com/events/details/board-meeting-11-17-2017-3595
END:VEVENT

END:VCALENDAR
