BEGIN:VCALENDAR
VERSION:2.0
PRODID:-//ChamberMaster//Event Calendar 2.0//EN
METHOD:PUBLISH
X-PUBLISHED-TTL:P3D
REFRESH-INTERVAL:P3D
CALSCALE:GREGORIAN
BEGIN:VEVENT
DTSTART:20161216T153000Z
DTEND:20161216T170000Z
X-MICROSOFT-CDO-ALLDAYEVENT:FALSE
SUMMARY:BOARD MEETING
DESCRIPTION:
X-ALT-DESC;FMTTYPE=text/html:
LOCATION:Hilton Garden Inn Ridlon Room 1800 NW Gilman Blvd / 1484 Hyla Ave. NW Issaquah\, WA 98027
UID:e.684.1962
SEQUENCE:3
DTSTAMP:20260424T221141Z
URL:https://business.issaquahchamber.com/events/details/board-meeting-12-16-2016-1962
END:VEVENT

END:VCALENDAR
