BEGIN:VCALENDAR
VERSION:2.0
PRODID:-//ChamberMaster//Event Calendar 2.0//EN
METHOD:PUBLISH
X-PUBLISHED-TTL:P3D
REFRESH-INTERVAL:P3D
CALSCALE:GREGORIAN
BEGIN:VEVENT
DTSTART:20250221T153000Z
DTEND:20250221T160000Z
X-MICROSOFT-CDO-ALLDAYEVENT:FALSE
SUMMARY:BOARD OF DIRECTORS MEETING
DESCRIPTION:The monthly Board of Directors meeting brings together board members to review organizational updates\, discuss ongoing and upcoming initiatives\, and address any challenges or opportunities.\n\nKey agenda items typically include:\n\n\n	Financial updates and budget review.\n	Membership report.\n	Progress reports on events and programs\n	Legislative Update\n	Strategic planning and alignment with the Chamber's goals.\n	Open discussion for board members to share insights or concerns.
X-ALT-DESC;FMTTYPE=text/html:<p>The monthly Board of Directors meeting&nbsp\;brings together board members to review organizational updates\, discuss ongoing and upcoming initiatives\, and address any challenges or opportunities.</p>\n\n<p>Key agenda items typically include:</p>\n\n<ul>\n	<li>Financial updates and budget review.</li>\n	<li>Membership report.</li>\n	<li>Progress reports on events and&nbsp\;programs</li>\n	<li>Legislative Update</li>\n	<li>Strategic planning and alignment with the Chamber&#39\;s goals.</li>\n	<li>Open discussion for board members to share insights or concerns.</li>\n</ul>\n
LOCATION:Issaquah Chamber of Commerce\, 155 NW Gilman Blvd.
UID:e.684.9041
SEQUENCE:3
DTSTAMP:20260424T152908Z
URL:https://business.issaquahchamber.com/events/details/board-of-directors-meeting-02-21-2025-9041
END:VEVENT

END:VCALENDAR
