BEGIN:VCALENDAR
VERSION:2.0
PRODID:-//ChamberMaster//Event Calendar 2.0//EN
METHOD:PUBLISH
X-PUBLISHED-TTL:P3D
REFRESH-INTERVAL:P3D
CALSCALE:GREGORIAN
BEGIN:VEVENT
DTSTART:20151015T183000Z
DTEND:20151015T203000Z
X-MICROSOFT-CDO-ALLDAYEVENT:FALSE
SUMMARY:Business University Featuring Debbie Rosemont "What Are You Waiting For?"
DESCRIPTION:Debbie Rosemont from Simply Placed will be presenting "What Are You Waiting For?" \n\nProcrastination happens. Debbie will help you discover why as she discusses the most common reasons and offers specific\, smart strategies that will allow you to conquer procrastination now\, instead of later. Come learn tips that will empower you to not only move forward on\, but to finish projects and goals. \n\n \n\nThis workshop is for you if you:\n\nHave important things you still want to accomplish in 2015\n\nProcrastinate\n\nLeave projects unfinished\n\nWonder where the time goes and why you don't accomplish your highest priorities\, yet you are "so busy". \n\nYou'll learn:\n\nWhy SMART goals are smart\n\nA simple definition of procrastination\n\n10 primary reasons procrastination happens\n\n10 strategies to minimize procrastination and get stuff done\n\nHow to motivate yourself\n\nHow to eliminate distraction\n\n \n\nWhy attend this workshop?\n\nDebbie delivers practical\, easy to implement techniques to help you conquer your organization and productivity challenges. You'll learn things you can put into place right away. Typically audience members find that her tips save them time\, money and stress and improve the quality of their personal and professional lives.
X-ALT-DESC;FMTTYPE=text/html:<span style="font-size:12px\;"><span style="color: rgb(0\, 0\, 0)\; font-family: arial\,sans\,sans-serif\; line-height: normal\; white-space: pre-wrap\;">Debbie Rosemont from Simply Placed will be presenting &quot\;What Are You Waiting For?&quot\; </span><br />\n<span style="font-family: trebuchet ms\,sans-serif\;">Procrastination happens. Debbie will help you discover why as she discusses the most common reasons and offers specific\, smart strategies that will allow you to conquer procrastination now\, instead of later. Come learn tips that will empower you to not only move forward on\, but to finish projects and goals. </span><br />\n&nbsp\;<br />\n<strong><span style="font-family: trebuchet ms\,sans-serif\;">This workshop is for you if you:</span></strong><br />\n<span style="font-family: trebuchet ms\,sans-serif\;">Have important things you still want to accomplish in 2015</span><br />\n<span style="font-family: trebuchet ms\,sans-serif\;">Procrastinate</span><br />\n<span style="font-family: trebuchet ms\,sans-serif\;">Leave projects unfinished</span><br />\n<span style="font-family: trebuchet ms\,sans-serif\;">Wonder where the time goes and why you don&rsquo\;t accomplish your highest priorities\, yet you are &ldquo\;so busy&rdquo\;. </span><br />\n<strong><span style="font-family: trebuchet ms\,sans-serif\;">You&rsquo\;ll learn:</span></strong><br />\n<span style="font-family: trebuchet ms\,sans-serif\;">Why SMART goals are smart</span><br />\n<span style="font-family: trebuchet ms\,sans-serif\;">A simple definition of procrastination</span><br />\n<span style="font-family: trebuchet ms\,sans-serif\;">10 primary reasons procrastination happens</span><br />\n<span style="font-family: trebuchet ms\,sans-serif\;">10 strategies to minimize procrastination and get stuff done</span><br />\n<span style="font-family: trebuchet ms\,sans-serif\;">How to motivate yourself</span><br />\n<span style="font-family: trebuchet ms\,sans-serif\;">How to eliminate distraction</span><br />\n&nbsp\;<br />\n<strong><span style="font-family: trebuchet ms\,sans-serif\;">Why attend this workshop?</span></strong><br />\n<span style="font-family: trebuchet ms\,sans-serif\;">Debbie delivers practical\, easy to implement techniques to help you conquer your organization and productivity challenges. You&rsquo\;ll learn things you can put into place right away. Typically audience members find that her tips save them time\, money and stress and improve the quality of th</span><span style="font-family: trebuchet ms\,sans-serif\;">eir personal and professional lives. </span></span><br />\n&nbsp\;
LOCATION:Swedish Hospital Meeting Rooms
UID:e.684.1372
SEQUENCE:3
DTSTAMP:20260425T170017Z
URL:https://business.issaquahchamber.com/events/details/business-university-featuring-debbie-rosemont-what-are-you-waiting-for-10-15-2015-1372
END:VEVENT

END:VCALENDAR
