BEGIN:VCALENDAR
VERSION:2.0
PRODID:-//ChamberMaster//Event Calendar 2.0//EN
METHOD:PUBLISH
X-PUBLISHED-TTL:P3D
REFRESH-INTERVAL:P3D
CALSCALE:GREGORIAN
BEGIN:VEVENT
DTSTART:20161129T200000Z
DTEND:20161129T203000Z
X-MICROSOFT-CDO-ALLDAYEVENT:FALSE
SUMMARY:C2 Educational Center Ribbon Cutting
DESCRIPTION:Please join us and welcoming C2 Educational Center to the Chamber!
X-ALT-DESC;FMTTYPE=text/html:Please join us and welcoming C2 Educational Center to the Chamber!
LOCATION:C2 Educational Center 710 NW Gilman Blvd. #D106 Issaquah\, WA 98027
UID:e.684.3131
SEQUENCE:3
DTSTAMP:20260424T232956Z
URL:https://business.issaquahchamber.com/events/details/c2-educational-center-ribbon-cutting-3131
END:VEVENT

END:VCALENDAR
