BEGIN:VCALENDAR
VERSION:2.0
PRODID:-//ChamberMaster//Event Calendar 2.0//EN
METHOD:PUBLISH
X-PUBLISHED-TTL:P3D
REFRESH-INTERVAL:P3D
CALSCALE:GREGORIAN
BEGIN:VEVENT
DTSTART:20170928T020000Z
DTEND:20170928T040000Z
X-MICROSOFT-CDO-ALLDAYEVENT:FALSE
SUMMARY:Candidate Forum
DESCRIPTION:Issaquah City Council\, mayoral candidates to face off in forum\n\n  \n\nKiwanis Club of Issaquah and the Issaquah Cable TIV Commission will co-host a Candidate Forum for Issaquah City Council and Mayor candidates\, 7-9 p.m.\, Wednesday\, Sept. 27 in the City Council Chambers. The forum is open to the public.\n\nThe forum will first have the two mayoral candidates\, Paul Winterstein and Mary Lou Pauly\, answering prepared questions\, and some submitted by the public. The candidates will have an opportunity to ask each other the last question.\n\nUnopposed candidates Stacy Goodman\, Tola Marts and Justin Walsh will each have two minutes to introduce themselves and their positions.\n\nCandidates challenged for city council seats will then be presented with questions following their opening remarks. Christopher Reh and Bryan Weinstein are seeking Position 1. Richard Swanson and Mariah Bettise are vying for Position 2. These four candidates will also have an opportunity to ask their opponent the last question.\n\nCandidate questions for consideration may be emailed by Sept. 23 to judylhr@nwlink.com\, or submitted during the forum.\n\nThe forum will be repeated daily on Issaquah's Channel 21 until the Nov. 7 election.
X-ALT-DESC;FMTTYPE=text/html:<p style="margin: 0px\; text-indent: 4.5pt\;"><span style="margin: 0px\; font-family: &quot\;Arial&quot\;\,sans-serif\;"><font color="#000000" size="3">Issaquah City Council\, mayoral candidates to face off in forum</font></span></p>\n\n<p style="margin: 0px\; text-indent: 22.5pt\;"><span style="margin: 0px\; font-family: &quot\;Arial&quot\;\,sans-serif\;"><font color="#000000" size="3">&nbsp\;</font></span><span style="margin: 0px\; font-family: &quot\;Arial&quot\;\,sans-serif\;"><font color="#000000" size="3">&nbsp\;</font></span></p>\n\n<p style="margin: 0px\; text-indent: 22.5pt\;"><span style="margin: 0px\; font-family: &quot\;Arial&quot\;\,sans-serif\;"><font color="#000000" size="3">Kiwanis Club of Issaquah and the Issaquah Cable TIV Commission will co-host a Candidate Forum for Issaquah City Council and Mayor candidates\, 7-9 p.m.\, Wednesday\, Sept. 27 in the City Council Chambers. The forum is open to the public.</font></span></p>\n\n<p style="margin: 0px\; text-indent: 22.5pt\;"><span style="margin: 0px\; font-family: &quot\;Arial&quot\;\,sans-serif\;"><font color="#000000" size="3">The forum will first have the two mayoral candidates\, Paul Winterstein and Mary Lou Pauly\, answering prepared questions\, and some submitted by the public. The candidates will have an opportunity to ask each other the last question.</font></span></p>\n\n<p style="margin: 0px\; text-indent: 22.5pt\;"><span style="margin: 0px\; font-family: &quot\;Arial&quot\;\,sans-serif\;"><font color="#000000" size="3">Unopposed candidates Stacy Goodman\, Tola Marts and Justin Walsh will each have two minutes to introduce themselves and their positions.</font></span></p>\n\n<p style="margin: 0px\; text-indent: 22.5pt\;"><span style="margin: 0px\; font-family: &quot\;Arial&quot\;\,sans-serif\;"><font color="#000000" size="3">Candidates challenged for city council seats will then be presented with questions following their opening remarks. Christopher Reh and Bryan Weinstein are seeking Position 1. Richard Swanson and Mariah Bettise are vying for Position 2. These four candidates will also have an opportunity to ask their opponent the last question.</font></span></p>\n\n<p style="margin: 0px\; text-indent: 22.5pt\;"><font size="3"><font color="#000000"><span style="margin: 0px\; font-family: &quot\;Arial&quot\;\,sans-serif\;">Candidate questions for consideration may be emailed by Sept. 23 to </span><a><span style="margin: 0px\; font-family: &quot\;Arial&quot\;\,sans-serif\;">judylhr@nwlink.com</span></a><span style="margin: 0px\; font-family: &quot\;Arial&quot\;\,sans-serif\;">\, or submitted during the forum.</span></font></font></p>\n\n<p style="margin: 0px\; text-indent: 22.5pt\;"><span style="margin: 0px\; font-family: &quot\;Arial&quot\;\,sans-serif\;"><font color="#000000" size="3">The forum will be repeated daily on Issaquah&rsquo\;s Channel 21 until the Nov. 7 election.</font></span></p>\n
LOCATION:City Council chambers 135 E. Sunset Way Issaquah WA 98027
UID:e.684.3830
SEQUENCE:3
DTSTAMP:20260424T103235Z
URL:https://business.issaquahchamber.com/events/details/candidate-forum-3830
END:VEVENT

END:VCALENDAR
