BEGIN:VCALENDAR
VERSION:2.0
PRODID:-//ChamberMaster//Event Calendar 2.0//EN
METHOD:PUBLISH
X-PUBLISHED-TTL:P3D
REFRESH-INTERVAL:P3D
CALSCALE:GREGORIAN
BEGIN:VEVENT
DTSTART:20160206T030000Z
DTEND:20160206T050000Z
X-MICROSOFT-CDO-ALLDAYEVENT:FALSE
SUMMARY:Candyland Family Fun Night
DESCRIPTION:Candyland Family Fun Night\, for all ages\, takes place at both the Julius Boehm Pool and the Issaquah Community Center. Participants can start and end at either facility. Play a life-sized Candyland board game\, create crafts and enjoy snacks. This event is co-hosted by the Issaquah Youth Advisory Board.
X-ALT-DESC;FMTTYPE=text/html:<span style="font-family: Verdana\; font-size: 13.3333320617676px\; line-height: 18.6666641235352px\;">Candyland Family Fun Night\, for all ages\, takes place at both the Julius Boehm Pool and the Issaquah Community Center. Participants can start and end at either facility. Play a life-sized Candyland board game\, create crafts and enjoy snacks. This event is co-hosted by the Issaquah Youth Advisory Board.</span>
LOCATION:Julius Boehm Pool\, 50 SE Clark Street\, Issaquah
UID:e.684.1752
SEQUENCE:3
DTSTAMP:20260425T112951Z
URL:https://business.issaquahchamber.com/events/details/candyland-family-fun-night-02-05-2016-1752
END:VEVENT

END:VCALENDAR
