BEGIN:VCALENDAR
VERSION:2.0
PRODID:-//ChamberMaster//Event Calendar 2.0//EN
METHOD:PUBLISH
X-PUBLISHED-TTL:P3D
REFRESH-INTERVAL:P3D
CALSCALE:GREGORIAN
BEGIN:VEVENT
DTSTART:20170725T190000Z
DTEND:20170726T000000Z
X-MICROSOFT-CDO-ALLDAYEVENT:FALSE
SUMMARY:Chalk Art Festival
DESCRIPTION:Create artwork from the ground up at our Chalk Art Festival. We provide free chalk\, water and snacks. You provide the creativity!\n\n\n\nArrive early to choose a spot in the shade. Join us for a fun afternoon of art\, music and more.\n\n\n\nOur Chalk Art Festival follows a free concert by Recess Monkey\, part of our Play Bounce & Jam kids concert series!
X-ALT-DESC;FMTTYPE=text/html:<span class="_4n-j _fbReactionComponent__eventDetailsContentTags fsl" data-testid="event-permalink-details">Create artwork from the ground up at our Chalk Art Festival. We provide free chalk\, water and snacks. You provide the creativity!<br />\n<br />\nArrive early to choose a spot in the shade. Join us for a fun afternoon of art\, music and more.<br />\n<br />\nOur Chalk Art Festival follows a free concert by Recess Monkey\, part of our Play Bounce &amp\; Jam kids concert series!</span>
LOCATION:Issaquah Community Center 301 Rainier Blvd S Issaquah WA 98027
UID:e.684.3665
SEQUENCE:3
DTSTAMP:20260424T132054Z
URL:https://business.issaquahchamber.com/events/details/chalk-art-festival-3665
END:VEVENT

END:VCALENDAR
