BEGIN:VCALENDAR
VERSION:2.0
PRODID:-//ChamberMaster//Event Calendar 2.0//EN
METHOD:PUBLISH
X-PUBLISHED-TTL:P3D
REFRESH-INTERVAL:P3D
CALSCALE:GREGORIAN
BEGIN:VEVENT
DTSTART:20170208T190000Z
DTEND:20170208T230000Z
X-MICROSOFT-CDO-ALLDAYEVENT:FALSE
SUMMARY:Chamber Day
DESCRIPTION:Join the East King County Chambers of Commerce Legislative Coalition for a day of learning and lobbying in Olympia.
X-ALT-DESC;FMTTYPE=text/html:<span style="color: rgb(0\, 0\, 0)\; font-family: Arial\, Helvetica\, &quot\;Sans Serif&quot\;\; font-size: 14px\;">Join the East King County Chambers of Commerce Legislative Coalition for a day of learning and lobbying in Olympia.</span>
LOCATION:Pritchard Building 415 Sid Snyder Avenue Olympia\, WA 98504
UID:e.684.3171
SEQUENCE:3
DTSTAMP:20260424T193743Z
URL:https://business.issaquahchamber.com/events/details/chamber-day-3171
END:VEVENT

END:VCALENDAR
