BEGIN:VCALENDAR
VERSION:2.0
PRODID:-//ChamberMaster//Event Calendar 2.0//EN
METHOD:PUBLISH
X-PUBLISHED-TTL:P3D
REFRESH-INTERVAL:P3D
CALSCALE:GREGORIAN
BEGIN:VEVENT
DTSTART:20151204T010000Z
DTEND:20151204T030000Z
X-MICROSOFT-CDO-ALLDAYEVENT:FALSE
SUMMARY:CHAMBER HOLIDAY PARTY
DESCRIPTION:Put on your festive attire and join us in a celebration of the holidays as we wrap up 2015 and look forward with anticipation to 2016! All chamber members get to bring a plus one! This is a RSVP only event!
X-ALT-DESC;FMTTYPE=text/html:Put on your festive attire and join us in a celebration of the holidays as we wrap up 2015 and look forward with anticipation to 2016! All chamber members get to bring a plus one! This is a RSVP only event!<br />\n&nbsp\;
LOCATION:Blakely Hall Issaquah Highlands
UID:e.684.1416
SEQUENCE:3
DTSTAMP:20260425T141556Z
URL:https://business.issaquahchamber.com/events/details/chamber-holiday-party-12-03-2015-1416
END:VEVENT

END:VCALENDAR
