BEGIN:VCALENDAR
VERSION:2.0
PRODID:-//ChamberMaster//Event Calendar 2.0//EN
METHOD:PUBLISH
X-PUBLISHED-TTL:P3D
REFRESH-INTERVAL:P3D
CALSCALE:GREGORIAN
BEGIN:VEVENT
DTSTART:20151218T020000Z
DTEND:20151218T030000Z
X-MICROSOFT-CDO-ALLDAYEVENT:FALSE
SUMMARY:Christmas Caroling
DESCRIPTION:Join in caroling at the historic Train Depot. Cookies and hot chocolate will be served. This is an event that is fun for the whole family.
X-ALT-DESC;FMTTYPE=text/html:Join in caroling at the historic Train Depot. Cookies and hot chocolate will be served. This is an event that is fun for the whole family.
LOCATION:The historic Train Depot in Downtown Issaquah. 78 1st Ave NE\, Issaquah\, WA 98027
UID:e.684.1415
SEQUENCE:3
DTSTAMP:20260425T141436Z
URL:https://business.issaquahchamber.com/events/details/christmas-caroling-12-17-2015-1415
END:VEVENT

END:VCALENDAR
