BEGIN:VCALENDAR
VERSION:2.0
PRODID:-//ChamberMaster//Event Calendar 2.0//EN
METHOD:PUBLISH
X-PUBLISHED-TTL:P3D
REFRESH-INTERVAL:P3D
CALSCALE:GREGORIAN
BEGIN:VEVENT
DTSTART:20151225T000000Z
DTEND:20151225T020000Z
X-MICROSOFT-CDO-ALLDAYEVENT:FALSE
SUMMARY:Christmas Eve Live Nativity Followed by a Candlelight Service
DESCRIPTION:"Bethlehem Revisited" is a live nativity scene that will be put on in the highlands from 4 PM to 6 PM followed by a candlelight service that will start at 6 PM.
X-ALT-DESC;FMTTYPE=text/html:&quot\;Bethlehem Revisited&quot\; is a live nativity scene that will be put on in the highlands from 4 PM to 6 PM followed by a candlelight service that will start at 6 PM.
LOCATION:Blakely Hall 2550 NE Park Dr Issaquah\, WA 98027
UID:e.684.1433
SEQUENCE:3
DTSTAMP:20260425T142028Z
URL:https://business.issaquahchamber.com/events/details/christmas-eve-live-nativity-followed-by-a-candlelight-service-12-24-2015-1433
END:VEVENT

END:VCALENDAR
