BEGIN:VCALENDAR
VERSION:2.0
PRODID:-//ChamberMaster//Event Calendar 2.0//EN
METHOD:PUBLISH
X-PUBLISHED-TTL:P3D
REFRESH-INTERVAL:P3D
CALSCALE:GREGORIAN
BEGIN:VEVENT
DTSTART:20151208T030000Z
DTEND:20151208T040000Z
X-MICROSOFT-CDO-ALLDAYEVENT:FALSE
SUMMARY:City Council meeting & Final Public Hearing on 2016 Budget
DESCRIPTION:This is your last opportunity for any public comments on the city's 2016 budget.
X-ALT-DESC;FMTTYPE=text/html:This is your last opportunity for any public comments on the city&#39\;s 2016 budget.
LOCATION:
UID:e.684.1427
SEQUENCE:3
DTSTAMP:20260425T153837Z
URL:https://business.issaquahchamber.com/events/details/city-council-meeting-final-public-hearing-on-2016-budget-12-07-2015-1427
END:VEVENT

END:VCALENDAR
