BEGIN:VCALENDAR
VERSION:2.0
PRODID:-//ChamberMaster//Event Calendar 2.0//EN
METHOD:PUBLISH
X-PUBLISHED-TTL:P3D
REFRESH-INTERVAL:P3D
CALSCALE:GREGORIAN
BEGIN:VEVENT
DTSTART:20170120T030000Z
DTEND:20170120T043000Z
X-MICROSOFT-CDO-ALLDAYEVENT:FALSE
SUMMARY:Community Open House
DESCRIPTION:Help maintain Olde Town as the vibrant heart of our community as a Downtown Issaquah Association volunteer.\n\n\n\nThe organization will host a community open house for prospective volunteers\, 7-8:30 p.m. Jan. 19\, 2017\, at the historic Hailstone Feed Store\, 232 Front St. N.\n\n\n\nLearn how you can connect and serve your community at Downtown Issaquah Association events and programs. Bring your neighbors\, coworkers\, friends to enjoy some refreshments and learn more!\n\n\n\nRSVP to Brenda DeVore\, Downtown Issaquah Association executive director\, via email or at 425-391-1112.\n\n\n\nTo learn more about the open house and Downtown Issaquah Association events\, go to downtownissaquah.com.
X-ALT-DESC;FMTTYPE=text/html:Help maintain Olde Town as the vibrant heart of our community as a Downtown Issaquah Association volunteer.<br />\n<br />\nThe organization will host a community open house for prospective volunteers\, 7-8:30 p.m. Jan. 19\, 2017\, at the historic Hailstone Feed Store\, 232 Front St. N.<br />\n<br />\nLearn how you can connect and serve your community at Downtown Issaquah Association events and programs. Bring your neighbors\, coworkers\, friends to enjoy some refreshments and learn more!<br />\n<br />\nRSVP to Brenda DeVore\, Downtown Issaquah Association executive director\, via email or at 425-391-1112.<br />\n<br />\nTo learn more about the open house and Downtown Issaquah Association events\, go to downtownissaquah.com.
LOCATION:Hailstone Feed Store 232 Front St. N Issaquah\, WA 98027
UID:e.684.3168
SEQUENCE:3
DTSTAMP:20260424T220952Z
URL:https://business.issaquahchamber.com/events/details/community-open-house-3168
END:VEVENT

END:VCALENDAR
