BEGIN:VCALENDAR
VERSION:2.0
PRODID:-//ChamberMaster//Event Calendar 2.0//EN
METHOD:PUBLISH
X-PUBLISHED-TTL:P3D
REFRESH-INTERVAL:P3D
CALSCALE:GREGORIAN
BEGIN:VEVENT
DTSTART:20170311T190000Z
DTEND:20170311T210000Z
X-MICROSOFT-CDO-ALLDAYEVENT:FALSE
SUMMARY:Community Open House: Downtown Streetscape
DESCRIPTION:See concepts for what Front Street could look like in the future - and share your feedback.\n\n\n\n The design concepts\, created through collaboration with community members\, Olde Town business and visitos\, include proposed enhancements to Front Street\, Alder Place and Alder Street - the heart of Issaquah's historic downtown.\n\nThe event will include activities for all ages\, as well as refreshments.\n\nJoin us to share your feedback on the final concept\, and guide future improvements in Olde Town\, including new street trees and landscaping\, sidewalks\, benches and lighting.
X-ALT-DESC;FMTTYPE=text/html:See concepts for what Front Street could look like in the future - and share your feedback.<br />\n<br />\n&#8203\;The design concepts\, created through collaboration with community members\, Olde Town business and visitos\, include proposed enhancements to Front Street\, Alder Place and Alder Street - the heart of Issaquah&#39\;s historic downtown.<br />\nThe event will include activities for all ages\, as well as refreshments.<br />\nJoin us to share your feedback on the final concept\, and guide future improvements in Olde Town\, including new street trees and landscaping\, sidewalks\, benches and lighting. &nbsp\;&nbsp\;&nbsp\;&nbsp\;
LOCATION:Issaquah Depot Museum 78 1st Ave NE Issaquah\, WA 98027
UID:e.684.3529
SEQUENCE:3
DTSTAMP:20260424T182709Z
URL:https://business.issaquahchamber.com/events/details/community-open-house-downtown-streetscape-3529
END:VEVENT

END:VCALENDAR
