BEGIN:VCALENDAR
VERSION:2.0
PRODID:-//ChamberMaster//Event Calendar 2.0//EN
METHOD:PUBLISH
X-PUBLISHED-TTL:P3D
REFRESH-INTERVAL:P3D
CALSCALE:GREGORIAN
BEGIN:VEVENT
DTSTART:20151120T023000Z
DTEND:20151120T040000Z
X-MICROSOFT-CDO-ALLDAYEVENT:FALSE
SUMMARY:Community Open House: Pedestrian Crossing Study
DESCRIPTION:The City of Issaquah invites you to learn more about their recently completed pedestrian crossing study at a community open house.
X-ALT-DESC;FMTTYPE=text/html:The City of Issaquah invites you to learn more about their recently completed pedestrian crossing study at a community open house.
LOCATION:Tibbetts Creek Manor
UID:e.684.1413
SEQUENCE:3
DTSTAMP:20260425T153407Z
URL:https://business.issaquahchamber.com/events/details/community-open-house-pedestrian-crossing-study-11-19-2015-1413
END:VEVENT

END:VCALENDAR
