BEGIN:VCALENDAR
VERSION:2.0
PRODID:-//ChamberMaster//Event Calendar 2.0//EN
METHOD:PUBLISH
X-PUBLISHED-TTL:P3D
REFRESH-INTERVAL:P3D
CALSCALE:GREGORIAN
BEGIN:VEVENT
DTSTART:20170117T183000Z
DTEND:20170117T200000Z
X-MICROSOFT-CDO-ALLDAYEVENT:FALSE
SUMMARY:Congressional Office Open House with Pramila Jayapal
DESCRIPTION:Congresswoman Pramila Jayapal will host an open house at her district office in downtown Seattle. The event will mark the official opening of her flagship district office to assist the people of Washington's 7th Congressional District. This is an opportunity for constituents to meet Rep. Jayapal and her staff\, and to talk about an agenda for the district.
X-ALT-DESC;FMTTYPE=text/html:<span style="color: rgb(121\, 121\, 121)\; font-family: Halant\; font-size: 18px\; background-color: rgb(255\, 255\, 255)\;">Congresswoman Pramila Jayapal will host an open house at her district office in downtown Seattle. The event will mark the official opening of her flagship district office to assist the people of Washington&rsquo\;s 7th Congressional District. This is an opportunity for constituents to meet Rep. Jayapal and her staff\, and to talk about an agenda for the district.</span>
LOCATION:1904 Third Avenue\, Suite 510 Seattle\, WA 98101
UID:e.684.3176
SEQUENCE:3
DTSTAMP:20260424T205648Z
URL:https://business.issaquahchamber.com/events/details/congressional-office-open-house-with-pramila-jayapal-3176
END:VEVENT

END:VCALENDAR
