BEGIN:VCALENDAR
VERSION:2.0
PRODID:-//ChamberMaster//Event Calendar 2.0//EN
METHOD:PUBLISH
X-PUBLISHED-TTL:P3D
REFRESH-INTERVAL:P3D
CALSCALE:GREGORIAN
BEGIN:VEVENT
DTSTART:20170927T170000Z
DTEND:20170927T200000Z
X-MICROSOFT-CDO-ALLDAYEVENT:FALSE
SUMMARY:Cybersecurity Workshop
DESCRIPTION:Participate in this SBDC community workshop and learn how to protect your company's vulnerability to cybersecurity breaches and get theknowledge and resources needed to lower the risk to your business. \n\nThe U.S. Department of Commerce's National Institute of Standards and Technology (NIST) cybersecurity framework will be covered. A workbook\, and Cybersecurity Toolkit with a Written Information Security Plan template are included. Professionals from several industry sectors will be presenting and available to answer questions.\n\n\n\n Pre-Registration is required as space is limited.\n\n\n\n Sign up at https://wsbdc.ecenterdirect.com/events/99270506
X-ALT-DESC;FMTTYPE=text/html:<p>Participate in this SBDC community workshop and learn how to <strong>protect your company&rsquo\;s vulnerability to cybersecurity breaches and get theknowledge and resources needed to lower the risk to your business</strong>.&nbsp\;</p>\n\n<p>The U.S. Department of Commerce&rsquo\;s National Institute of Standards and Technology (NIST) cybersecurity framework will be covered. A workbook\, and Cybersecurity Toolkit with a Written Information Security Plan template are included. Professionals from several industry sectors will be presenting and available to answer questions.<br />\n<br />\n&#8203\;<em><strong>Pre-Registration is required as space is limited.</strong></em><br />\n<br />\n&#8203\;Sign up at&nbsp\;<a href="https://wsbdc.ecenterdirect.com/events/99270506" target="_blank">https://wsbdc.ecenterdirect.com/events/99270506</a></p>\n
LOCATION:Microsoft Store 116 Bellevue Square Bellevue\, WA 98004
UID:e.684.3839
SEQUENCE:3
DTSTAMP:20260424T103154Z
URL:https://business.issaquahchamber.com/events/details/cybersecurity-workshop-3839
END:VEVENT

END:VCALENDAR
