BEGIN:VCALENDAR
VERSION:2.0
PRODID:-//ChamberMaster//Event Calendar 2.0//EN
METHOD:PUBLISH
X-PUBLISHED-TTL:P3D
REFRESH-INTERVAL:P3D
CALSCALE:GREGORIAN
BEGIN:VEVENT
DTSTART:20160227T193000Z
DTEND:20160227T203000Z
X-MICROSOFT-CDO-ALLDAYEVENT:FALSE
SUMMARY:Defeating Racism
DESCRIPTION:Does the eradication of racist laws really combat institutionalized racism? How does subtle and sometimes hidden institutionalized racism affect the citizens\, economy\, and future of Washington state? For this Humanities Washington event\, Eva Abram will talk about the history of racism and how it affects specific groups in our society today.
X-ALT-DESC;FMTTYPE=text/html:<span style="color: rgb(102\, 102\, 102)\; font-family: 'Open Sans'\, HelveticaNeue\, 'Helvetica Neue'\, Helvetica\, Arial\, sans-serif\; line-height: 22.1000003814697px\;">Does the eradication of racist laws really combat institutionalized racism? How does subtle and sometimes hidden institutionalized racism affect the citizens\, economy\, and future of Washington state? For this Humanities Washington event\, Eva Abram will talk about the history of racism and how it affects specific groups in our society today.&nbsp\;</span>
LOCATION:Issaquah Depot Museum\, 78 First Avenue NE
UID:e.684.1763
SEQUENCE:3
DTSTAMP:20260425T112653Z
URL:https://business.issaquahchamber.com/events/details/defeating-racism-02-27-2016-1763
END:VEVENT

END:VCALENDAR
