BEGIN:VCALENDAR
VERSION:2.0
PRODID:-//ChamberMaster//Event Calendar 2.0//EN
METHOD:PUBLISH
X-PUBLISHED-TTL:P3D
REFRESH-INTERVAL:P3D
CALSCALE:GREGORIAN
BEGIN:VEVENT
DTSTART:20170827T170000Z
DTEND:20170828T060000Z
X-MICROSOFT-CDO-ALLDAYEVENT:FALSE
SUMMARY:Discovering Lake Sammamish
DESCRIPTION:Enjoy a guided exploration of the Lake Sammamish State Park trails. Learn about the park's flora and fauna while you walk and discover the beauty of a unique urban park. Water and sturdy hiking shoes are strongly recommended. Programs last one hour and are designed for visitors of all ages\, however the information covered is oriented to older children and adult visitors.\nAll programs are free\; however\, a Discover Pass is required for parking by day-use visitors.\n\nPrograms are subject to cancellation due to weather or staffing availability. For more information about these summer programs\, contact Joy Kacoroski\, Lake Sammamish Interpretive Specialist\, (425) 455-7010\, or joy.kacoroski@parks.WA.gov.
X-ALT-DESC;FMTTYPE=text/html:Enjoy a guided exploration of the Lake Sammamish State Park trails. Learn about the park&rsquo\;s flora and fauna while you walk and discover the beauty of a unique urban park. Water and sturdy hiking shoes are strongly recommended. Programs last one hour and are designed for visitors of all ages\, however the information covered is oriented to <span class="_4yxo">older children and adult visitors</span>.\n<div class="_2cuy _3dgx _2vxa">All programs are free\; however\, a <a data-lynx-mode="origin" href="https://l.facebook.com/l.php?u=http%3A%2F%2Fwww.discoverpass.wa.gov%2F&amp\;h=ATMjBr2SS1tTIxXnWd7lM_JMyG0jz4KMXDADAyOndsDBIUsYJ79bHQ21fGGhkCv658rUtG7nNyaj5jgQbTTcNlay0rBHYjvdi8-FdPPZQoN6zVCLVZ8Nk2imDy3yEr7N69Q1O3fX_u0yTQ" target="_blank"><font color="#0066cc">Discover Pass</font></a> is required for parking by day-use visitors.</div>\n\n<div class="_2cuy _3dgx _2vxa">Programs are subject to cancellation due to weather or staffing availability. For more information about these summer programs\, contact Joy Kacoroski\, Lake Sammamish Interpretive Specialist\, (425) 455-7010\, or <a>joy.kacoroski@parks.WA.gov</a>.</div>\n
LOCATION:Lake Sammamish State Park 2000 NW Sammaish Rd Issaquah WA 98008
UID:e.684.3822
SEQUENCE:3
DTSTAMP:20260424T115532Z
URL:https://business.issaquahchamber.com/events/details/discovering-lake-sammamish-3822
END:VEVENT

END:VCALENDAR
