BEGIN:VCALENDAR
VERSION:2.0
PRODID:-//ChamberMaster//Event Calendar 2.0//EN
METHOD:PUBLISH
X-PUBLISHED-TTL:P3D
REFRESH-INTERVAL:P3D
CALSCALE:GREGORIAN
BEGIN:VEVENT
DTSTART:20170406T010000Z
DTEND:20170406T030000Z
X-MICROSOFT-CDO-ALLDAYEVENT:FALSE
SUMMARY:Drum Fun
DESCRIPTION:Hand drumming is a wonderful way to increase coordination\, boost stamina\, sharpen memory and lift your spirits! In this joyful "playshop\," use voice\, body\, hand percussion and drums (supplied) to explore the wonderful world of rhythm. Before you know it\, you will be making the music you love to dance to! No musical background necessary.\n\nRegistration required\, begins on April 4\, 10am.
X-ALT-DESC;FMTTYPE=text/html:<p>Hand drumming is a wonderful way to increase coordination\, boost stamina\, sharpen memory and lift your spirits! In this joyful &quot\;playshop\,&quot\; use voice\, body\, hand percussion and drums (supplied) to explore the wonderful world of rhythm. Before you know it\, you will be making the music you love to dance to! No musical background necessary.</p>\n\n<p>Registration required\, begins on April 4\, 10am.</p>\n
LOCATION:10 West Sunset Way Issaquah WA 98027
UID:e.684.3582
SEQUENCE:3
DTSTAMP:20260424T170220Z
URL:https://business.issaquahchamber.com/events/details/drum-fun-3582
END:VEVENT

END:VCALENDAR
