BEGIN:VCALENDAR
VERSION:2.0
PRODID:-//ChamberMaster//Event Calendar 2.0//EN
METHOD:PUBLISH
X-PUBLISHED-TTL:P3D
REFRESH-INTERVAL:P3D
CALSCALE:GREGORIAN
BEGIN:VEVENT
DTSTART:20170728T170000Z
DTEND:20170728T220000Z
X-MICROSOFT-CDO-ALLDAYEVENT:FALSE
SUMMARY:East King County Career Fair
DESCRIPTION:You'll have the opportunity to meet with some of the area's top employers. Be sure to dress professionally and bring multiple copies of your resume\, because they're here to hire.\n\nWalk in and start meeting with potential employers. It's that simple!\n\nSave yourself money and effort by meeting with multiple companies in one day at one place. Many of these companies are ready to hire immediately\, so be prepared for the possibility of an onsite interview!
X-ALT-DESC;FMTTYPE=text/html:<div>\n<p>You&#39\;ll have the opportunity to meet with some of the area&#39\;s top employers. Be sure to dress professionally and bring multiple copies of your resume\, because they&#39\;re here to hire.</p>\n\n<p><strong>Walk in and start meeting with potential employers. It&#39\;s that simple!</strong></p>\n\n<p>Save yourself money and effort by meeting with multiple companies in one day at one place. Many of these companies are ready to hire immediately\, so be prepared for the possibility of an onsite interview!</p>\n</div>\n
LOCATION:Embassy Suites Bellevue 3225 158th Ave SE Bellevue WA 98008
UID:e.684.3670
SEQUENCE:3
DTSTAMP:20260424T132147Z
URL:https://business.issaquahchamber.com/events/details/east-king-county-career-fair-3670
END:VEVENT

END:VCALENDAR
