BEGIN:VCALENDAR
VERSION:2.0
PRODID:-//ChamberMaster//Event Calendar 2.0//EN
METHOD:PUBLISH
X-PUBLISHED-TTL:P3D
REFRESH-INTERVAL:P3D
CALSCALE:GREGORIAN
BEGIN:VEVENT
DTSTART:20170914T230000Z
DTEND:20170915T020000Z
X-MICROSOFT-CDO-ALLDAYEVENT:FALSE
SUMMARY:EAST KING COUNTY CHAMBERS COALITION LEGISLATIVE WRAP UP
DESCRIPTION:Who: All East King Legislators\, East King County Chambers of Commerce Legislative Coalition members and invited guests. \n\nWhat: Legislators report back on what happened during the 2017 Regular and Special \n\nWhy: A chance for the business community to hear directly from their elected officials \n\nThe Third Special Session is over and legislators have left the state capitol. Here is your chance to catch up with them and find out the real story behind the 11th hour budget deal\, K-12 funding and more.\n\nCome join Delegates to the East King Chambers Coalition\, local business leaders and our Eastside legislators for the Coalition's annual Legislative Wrap-Up. Emcee Randy Bannecker will moderate a panel of legislators\, as they discuss how to get things done in a closely divided state capitol\, take a look ahead to 2018 and respond to your questions. Doors open at 4:00 PM with \, with program from 4:30   6:00 PM\, followed by happy hour with complimentary appetizers and no-host cocktails until 7:00 PM.
X-ALT-DESC;FMTTYPE=text/html:<p style="margin: 0px\;"><span style="margin: 0px\; color: rgb(31\, 73\, 125)\;"><font face="Calibri" size="3">Who: All East King Legislators\, East King County Chambers of Commerce Legislative Coalition members and invited guests. </font></span><br />\n<span style="margin: 0px\; color: rgb(31\, 73\, 125)\; font-family: &quot\;Calibri&quot\;\,sans-serif\; font-size: 11pt\;">What: Legislators report back on what happened during the 2017 Regular and Special </span><br />\n<span style="margin: 0px\; color: rgb(31\, 73\, 125)\;"><font face="Calibri" size="3">Why: A chance for the business community to hear directly from their elected officials </font></span></p>\n\n<p>The Third Special Session is over and legislators have left the state capitol. Here is your chance to catch up with them and find out the real story behind the 11th hour budget deal\, K-12 funding and more.</p>\n\n<p>Come join Delegates to the East King Chambers Coalition\, local business leaders and our Eastside legislators for the Coalition&rsquo\;s annual Legislative Wrap-Up. Emcee Randy Bannecker will moderate a panel of legislators\, as they discuss how to get things done in a closely divided state capitol\, take a look ahead to 2018 and respond to your questions.&nbsp\;Doors open at 4:00 PM with \, with program from 4:30 &ndash\; 6:00 PM\, followed by happy hour with complimentary appetizers and no-host cocktails until 7:00 PM.&nbsp\;</p>\n
LOCATION:The Club at Snoqualmie Ridge - Cascadia Room/Ballroom 36005 SE Ridge Street Snoqualmie\, WA 98065
UID:e.684.3827
SEQUENCE:3
DTSTAMP:20260424T104949Z
URL:https://business.issaquahchamber.com/events/details/east-king-county-chambers-coalition-legislative-wrap-up-3827
END:VEVENT

END:VCALENDAR
