BEGIN:VCALENDAR
VERSION:2.0
PRODID:-//ChamberMaster//Event Calendar 2.0//EN
METHOD:PUBLISH
X-PUBLISHED-TTL:P3D
REFRESH-INTERVAL:P3D
CALSCALE:GREGORIAN
BEGIN:VEVENT
DTSTART:20161215T170000Z
DTEND:20161215T200000Z
X-MICROSOFT-CDO-ALLDAYEVENT:FALSE
SUMMARY:Eastside Baby Corner Open House
DESCRIPTION:Stop by anytime between 9 am and 12 noon for a tour and a treat.  \n\nFind out why Basics = Brighter Futures for children\, and \n\nhow you can help change the equation for more than 700 kids each week.
X-ALT-DESC;FMTTYPE=text/html:<strong><span style="color:#6E273D\;"><span style="font-family:arial\,sans-serif\;"><span style="font-size:10.0pt\;">Stop by anytime between 9 am and 12 noon</span></span></span></strong><span style="color:#6E273D\;"><span style="font-family:arial\,sans-serif\;"><span style="font-size:10.0pt\;"> for a tour and a treat.&nbsp\; </span></span></span><br />\n<span style="color:#6E273D\;"><span style="font-family:arial\,sans-serif\;"><span style="font-size:10.0pt\;">Find out why </span></span></span><strong><span style="color:#85CDDB\;"><span style="font-family:arial\,sans-serif\;"><span style="font-size:10.0pt\;">Basics = Brighter Futures</span></span></span></strong><span style="color:#6E273D\;"><span style="font-family:arial\,sans-serif\;"><span style="font-size:10.0pt\;"> for children\, and </span></span></span><br />\n<span style="color:#6E273D\;"><span style="font-family:arial\,sans-serif\;"><span style="font-size:10.0pt\;">how <em>you</em> can help change the equation for more than 700 kids each week.</span></span></span>
LOCATION:Eastside Baby Corner - Issaquah Hub 1510 NW Maple St Issaquah\, WA
UID:e.684.3136
SEQUENCE:3
DTSTAMP:20260424T233022Z
URL:https://business.issaquahchamber.com/events/details/eastside-baby-corner-open-house-3136
END:VEVENT

END:VCALENDAR
