BEGIN:VCALENDAR
VERSION:2.0
PRODID:-//ChamberMaster//Event Calendar 2.0//EN
METHOD:PUBLISH
X-PUBLISHED-TTL:P3D
REFRESH-INTERVAL:P3D
CALSCALE:GREGORIAN
BEGIN:VEVENT
DTSTART:20171116T020000Z
DTEND:20171116T043000Z
X-MICROSOFT-CDO-ALLDAYEVENT:FALSE
SUMMARY:Eastside Catholic High School Open House
DESCRIPTION:Eastside Catholic High School Open House
X-ALT-DESC;FMTTYPE=text/html:<div>Eastside Catholic High School Open House</div>\n
LOCATION:Eastside Catholic 232 228th Ave SE Sammamish WA 98074
UID:e.684.3658
SEQUENCE:3
DTSTAMP:20260424T075121Z
URL:https://business.issaquahchamber.com/events/details/eastside-catholic-high-school-open-house-3658
END:VEVENT

END:VCALENDAR
