BEGIN:VCALENDAR
VERSION:2.0
PRODID:-//ChamberMaster//Event Calendar 2.0//EN
METHOD:PUBLISH
X-PUBLISHED-TTL:P3D
REFRESH-INTERVAL:P3D
CALSCALE:GREGORIAN
BEGIN:VEVENT
DTSTART:20170709T133000Z
DTEND:20170710T060000Z
X-MICROSOFT-CDO-ALLDAYEVENT:FALSE
SUMMARY:Eastside Triathlon
DESCRIPTION:Lake Sammamish State Park\, a popular venue for triathlon for many years\, is the home of Raise the Bar's next race and the only race on the popular Eastside \n\nThe Elton Home Team Eastside Triathlon\n\n With many recent\, beautiful renovations to the park grounds\, facilities\, beaches\, and family areas\, athletes will find a great new venue waiting for them on July 9th.\n.75 mile swim\, 23 mile bike\, 4 mile run
X-ALT-DESC;FMTTYPE=text/html:<div class="paragraph" style="text-align:center\;"><span style="color:rgb(81\, 81\, 81)">Lake Sammamish State Park\, a popular venue for triathlon for many years\, is the home of Raise the Bar&#39\;s next race and the only race on the popular Eastside&nbsp\;<br />\n<strong>The Elton Home Team Eastside Triathlon</strong><br />\n&nbsp\;With many recent\, beautiful renovations to the park grounds\, facilities\, beaches\, and family areas\, athletes will find a great new venue waiting for them on&nbsp\;July 9th.</span></div>\n.75 mile swim\, 23 mile bike\, 4 mile run&nbsp\;&nbsp\;&nbsp\;&nbsp\;
LOCATION:Lake Sammamish State Park 2000 NW Sammamish Rd\, Issaquah\, WA 98027
UID:e.684.3597
SEQUENCE:3
DTSTAMP:20260424T131803Z
URL:https://business.issaquahchamber.com/events/details/eastside-triathlon-3597
END:VEVENT

END:VCALENDAR
