BEGIN:VCALENDAR
VERSION:2.0
PRODID:-//ChamberMaster//Event Calendar 2.0//EN
METHOD:PUBLISH
X-PUBLISHED-TTL:P3D
REFRESH-INTERVAL:P3D
CALSCALE:GREGORIAN
BEGIN:VEVENT
DTSTART:20170507T160000Z
DTEND:20170507T220000Z
X-MICROSOFT-CDO-ALLDAYEVENT:FALSE
SUMMARY:Electric Vehicle Show
DESCRIPTION:Celebrate Spring and sustainability with Electric Vehicles! The XXX Root Beer in Issaquah\, right off I-90\, hosts the second annual Spring Electric Vehicle Show\, with dozens of electric cars and bikes on display\, both conversions and production models. It is the biggest all-electric vehicle exhibit in the Northwest! Talk to owners of the Nissan Leaf\, Mitsubishi MiEV\, Tesla Model S\, BMW i3\, one-of-a-kind conversions and electric motorcycles about their experiences. Learn about the benefits of electric driving and what is available today. The day includes music\, vendors\, car dealers and a raffle for prizes with the drawing at 1 p.m. Come see why Washington is the national leader in electric vehicle ownership per capita.
X-ALT-DESC;FMTTYPE=text/html:<div>Celebrate Spring and sustainability with Electric Vehicles! The XXX Root Beer in Issaquah\, right off I-90\, hosts the second annual Spring Electric Vehicle Show\, with dozens of electric cars and bikes on display\, both conversions and production models. It is the biggest all-electric vehicle exhibit in the Northwest! Talk to owners of the Nissan Leaf\, Mitsubishi MiEV\, Tesla Model S\, BMW i3\, one-of-a-kind conversions and electric motorcycles about their experiences. Learn about the benefits of electric driving and what is available today. The day includes music\, vendors\, car dealers and a raffle for prizes with the drawing at 1 p.m. Come see why Washington is the national leader in electric vehicle ownership per capita.&nbsp\;</div>\n
LOCATION:Triple X Rootbeer Drive In 98 Northeast Gilman Boulevard Issaquah\, WA 98027
UID:e.684.3610
SEQUENCE:3
DTSTAMP:20260424T155856Z
URL:https://business.issaquahchamber.com/events/details/electric-vehicle-show-3610
END:VEVENT

END:VCALENDAR
