BEGIN:VCALENDAR
VERSION:2.0
PRODID:-//ChamberMaster//Event Calendar 2.0//EN
METHOD:PUBLISH
X-PUBLISHED-TTL:P3D
REFRESH-INTERVAL:P3D
CALSCALE:GREGORIAN
BEGIN:VEVENT
DTSTART:20180610T190000Z
DTEND:20180610T194500Z
X-MICROSOFT-CDO-ALLDAYEVENT:FALSE
SUMMARY:Family Dance Party
DESCRIPTION:It's all about the hopping and the jumping and the bop\, bop\, bopping! Come jump and jive\, jig and jostle\, for this fun afternoon at Springfree Trampoline! \n\n\n\nJoin Seattle based musician Eli Rosenblatt\, as he sings original songs featuring his signature mix of global sounds including salsa\, reggae\, hip hop\, American folk music and funk. His music highlights messages of love and acceptance of all people and the planet while creating interactive experiences that inspire free self-expression and spontaneous\, joyful community.
X-ALT-DESC;FMTTYPE=text/html:<span style="display: inline !important\; float: none\; background-color: transparent\; color: rgb(29\, 33\, 41)\; font-family: Helvetica\,Arial\,sans-serif\; font-size: 14px\; font-style: normal\; font-variant: normal\; font-weight: 400\; letter-spacing: normal\; orphans: 2\; text-align: left\; text-decoration: none\; text-indent: 0px\; text-transform: none\; -webkit-text-stroke-width: 0px\; white-space: normal\; word-spacing: 0px\;">It&#39\;s all about the hopping and the jumping and the bop\, bop\, bopping! Come jump and jive\, jig and jostle\, for this fun afternoon at Springfree Trampoline! </span><br style="background-color: transparent\; color: rgb(29\, 33\, 41)\; font-family: Helvetica\,Arial\,sans-serif\; font-size: 14px\; font-style: normal\; font-variant: normal\; font-weight: 400\; letter-spacing: normal\; orphans: 2\; text-align: left\; text-decoration: none\; text-indent: 0px\; text-transform: none\; -webkit-text-stroke-width: 0px\; white-space: normal\; word-spacing: 0px\;" />\n<br style="background-color: transparent\; color: rgb(29\, 33\, 41)\; font-family: Helvetica\,Arial\,sans-serif\; font-size: 14px\; font-style: normal\; font-variant: normal\; font-weight: 400\; letter-spacing: normal\; orphans: 2\; text-align: left\; text-decoration: none\; text-indent: 0px\; text-transform: none\; -webkit-text-stroke-width: 0px\; white-space: normal\; word-spacing: 0px\;" />\n<span style="display: inline !important\; float: none\; background-color: transparent\; color: rgb(29\, 33\, 41)\; font-family: Helvetica\,Arial\,sans-serif\; font-size: 14px\; font-style: normal\; font-variant: normal\; font-weight: 400\; letter-spacing: normal\; orphans: 2\; text-align: left\; text-decoration: none\; text-indent: 0px\; text-transform: none\; -webkit-text-stroke-width: 0px\; white-space: normal\; word-spacing: 0px\;">Join Seattle based musician Eli Rosenblatt\, as he sings original songs featuring his signature mix of global sounds including salsa\, reggae\, hip hop\, American folk music and funk. His music highlights messages of love and acceptance of all people and the planet while creating interactive experiences that inspire free self-expression and spontaneous\, joyful community.</span>
LOCATION:Springfree Trampoline 1875 NW Poplar Way Issaquah\, WA 98027
UID:e.684.5399
SEQUENCE:3
DTSTAMP:20260423T233436Z
URL:https://business.issaquahchamber.com/events/details/family-dance-party-5399
END:VEVENT

END:VCALENDAR
